BEGIN:VCALENDAR
VERSION:2.0
PRODID:-//QM Brunnenstraße - ECPv6.15.20//NONSGML v1.0//EN
CALSCALE:GREGORIAN
METHOD:PUBLISH
X-WR-CALNAME:QM Brunnenstraße
X-ORIGINAL-URL:https://www.brunnenviertel-brunnenstrasse.de
X-WR-CALDESC:Veranstaltungen für QM Brunnenstraße
REFRESH-INTERVAL;VALUE=DURATION:PT1H
X-Robots-Tag:noindex
X-PUBLISHED-TTL:PT1H
BEGIN:VTIMEZONE
TZID:Europe/Berlin
BEGIN:DAYLIGHT
TZOFFSETFROM:+0100
TZOFFSETTO:+0200
TZNAME:CEST
DTSTART:20250330T010000
END:DAYLIGHT
BEGIN:STANDARD
TZOFFSETFROM:+0200
TZOFFSETTO:+0100
TZNAME:CET
DTSTART:20251026T010000
END:STANDARD
BEGIN:DAYLIGHT
TZOFFSETFROM:+0100
TZOFFSETTO:+0200
TZNAME:CEST
DTSTART:20260329T010000
END:DAYLIGHT
BEGIN:STANDARD
TZOFFSETFROM:+0200
TZOFFSETTO:+0100
TZNAME:CET
DTSTART:20261025T010000
END:STANDARD
BEGIN:DAYLIGHT
TZOFFSETFROM:+0100
TZOFFSETTO:+0200
TZNAME:CEST
DTSTART:20270328T010000
END:DAYLIGHT
BEGIN:STANDARD
TZOFFSETFROM:+0200
TZOFFSETTO:+0100
TZNAME:CET
DTSTART:20271031T010000
END:STANDARD
END:VTIMEZONE
BEGIN:VEVENT
DTSTART;TZID=Europe/Berlin:20260423T093000
DTEND;TZID=Europe/Berlin:20260423T110000
DTSTAMP:20260421T132457
CREATED:20250127T132732Z
LAST-MODIFIED:20250127T132732Z
UID:10000922-1776936600-1776942000@www.brunnenviertel-brunnenstrasse.de
SUMMARY:Aktiver Start in den Tag - Bewegung für Frauen
DESCRIPTION:FIT UND ENTSPANNT DURCH DEN ALLTAG! \nDas Angebot richtet sich an alle Frauen aus dem\nKiez\, die Lust haben sich in einem geschützten\nUmfeld zu bewegen und Körper und Geist etwas\nGutes zu tun. Durch behutsame Übungen werden\nVerspannungen gelockert\, die Mobilität verbessert\,\nMuskeln und Kraft Schritt für Schritt gestärkt\nund Energie für den Alltag gesammelt.\nVorkenntnisse sind nicht nötig.\nBitte an bequeme Kleidung denken. \nKeine Vorkenntnisse nötig.\nEine Voranmeldung ist\nnicht notwendig\, einfach\nvorbeikommen und mitmachen. \nDAS ANGEBOT\nIST KOSTENLOS! \nDo.\, 09:30 – 11:00 (wöchentlich)\nBadstraße 10\, 13357 Berlin\n(rechter Aufgang im Vorderhaus\,\n1.OG bei den Stadtteilmüttern/\nJugendclub Badstraße) \nFlyer
URL:https://www.brunnenviertel-brunnenstrasse.de/event/aktiver-start-in-den-tag-bewegung-fuer-frauen/2026-04-23/
LOCATION:Badstraße 10\, Badstraße 10\, Berlin\, 13357
END:VEVENT
BEGIN:VEVENT
DTSTART;TZID=Europe/Berlin:20260430T093000
DTEND;TZID=Europe/Berlin:20260430T110000
DTSTAMP:20260421T132457
CREATED:20250127T132732Z
LAST-MODIFIED:20250127T132732Z
UID:10000923-1777541400-1777546800@www.brunnenviertel-brunnenstrasse.de
SUMMARY:Aktiver Start in den Tag - Bewegung für Frauen
DESCRIPTION:FIT UND ENTSPANNT DURCH DEN ALLTAG! \nDas Angebot richtet sich an alle Frauen aus dem\nKiez\, die Lust haben sich in einem geschützten\nUmfeld zu bewegen und Körper und Geist etwas\nGutes zu tun. Durch behutsame Übungen werden\nVerspannungen gelockert\, die Mobilität verbessert\,\nMuskeln und Kraft Schritt für Schritt gestärkt\nund Energie für den Alltag gesammelt.\nVorkenntnisse sind nicht nötig.\nBitte an bequeme Kleidung denken. \nKeine Vorkenntnisse nötig.\nEine Voranmeldung ist\nnicht notwendig\, einfach\nvorbeikommen und mitmachen. \nDAS ANGEBOT\nIST KOSTENLOS! \nDo.\, 09:30 – 11:00 (wöchentlich)\nBadstraße 10\, 13357 Berlin\n(rechter Aufgang im Vorderhaus\,\n1.OG bei den Stadtteilmüttern/\nJugendclub Badstraße) \nFlyer
URL:https://www.brunnenviertel-brunnenstrasse.de/event/aktiver-start-in-den-tag-bewegung-fuer-frauen/2026-04-30/
LOCATION:Badstraße 10\, Badstraße 10\, Berlin\, 13357
END:VEVENT
BEGIN:VEVENT
DTSTART;TZID=Europe/Berlin:20260507T093000
DTEND;TZID=Europe/Berlin:20260507T110000
DTSTAMP:20260421T132457
CREATED:20250127T132732Z
LAST-MODIFIED:20250127T132732Z
UID:10000924-1778146200-1778151600@www.brunnenviertel-brunnenstrasse.de
SUMMARY:Aktiver Start in den Tag - Bewegung für Frauen
DESCRIPTION:FIT UND ENTSPANNT DURCH DEN ALLTAG! \nDas Angebot richtet sich an alle Frauen aus dem\nKiez\, die Lust haben sich in einem geschützten\nUmfeld zu bewegen und Körper und Geist etwas\nGutes zu tun. Durch behutsame Übungen werden\nVerspannungen gelockert\, die Mobilität verbessert\,\nMuskeln und Kraft Schritt für Schritt gestärkt\nund Energie für den Alltag gesammelt.\nVorkenntnisse sind nicht nötig.\nBitte an bequeme Kleidung denken. \nKeine Vorkenntnisse nötig.\nEine Voranmeldung ist\nnicht notwendig\, einfach\nvorbeikommen und mitmachen. \nDAS ANGEBOT\nIST KOSTENLOS! \nDo.\, 09:30 – 11:00 (wöchentlich)\nBadstraße 10\, 13357 Berlin\n(rechter Aufgang im Vorderhaus\,\n1.OG bei den Stadtteilmüttern/\nJugendclub Badstraße) \nFlyer
URL:https://www.brunnenviertel-brunnenstrasse.de/event/aktiver-start-in-den-tag-bewegung-fuer-frauen/2026-05-07/
LOCATION:Badstraße 10\, Badstraße 10\, Berlin\, 13357
END:VEVENT
BEGIN:VEVENT
DTSTART;TZID=Europe/Berlin:20260514T093000
DTEND;TZID=Europe/Berlin:20260514T110000
DTSTAMP:20260421T132457
CREATED:20250127T132732Z
LAST-MODIFIED:20250127T132732Z
UID:10000925-1778751000-1778756400@www.brunnenviertel-brunnenstrasse.de
SUMMARY:Aktiver Start in den Tag - Bewegung für Frauen
DESCRIPTION:FIT UND ENTSPANNT DURCH DEN ALLTAG! \nDas Angebot richtet sich an alle Frauen aus dem\nKiez\, die Lust haben sich in einem geschützten\nUmfeld zu bewegen und Körper und Geist etwas\nGutes zu tun. Durch behutsame Übungen werden\nVerspannungen gelockert\, die Mobilität verbessert\,\nMuskeln und Kraft Schritt für Schritt gestärkt\nund Energie für den Alltag gesammelt.\nVorkenntnisse sind nicht nötig.\nBitte an bequeme Kleidung denken. \nKeine Vorkenntnisse nötig.\nEine Voranmeldung ist\nnicht notwendig\, einfach\nvorbeikommen und mitmachen. \nDAS ANGEBOT\nIST KOSTENLOS! \nDo.\, 09:30 – 11:00 (wöchentlich)\nBadstraße 10\, 13357 Berlin\n(rechter Aufgang im Vorderhaus\,\n1.OG bei den Stadtteilmüttern/\nJugendclub Badstraße) \nFlyer
URL:https://www.brunnenviertel-brunnenstrasse.de/event/aktiver-start-in-den-tag-bewegung-fuer-frauen/2026-05-14/
LOCATION:Badstraße 10\, Badstraße 10\, Berlin\, 13357
END:VEVENT
BEGIN:VEVENT
DTSTART;TZID=Europe/Berlin:20260521T093000
DTEND;TZID=Europe/Berlin:20260521T110000
DTSTAMP:20260421T132457
CREATED:20250127T132732Z
LAST-MODIFIED:20250127T132732Z
UID:10000926-1779355800-1779361200@www.brunnenviertel-brunnenstrasse.de
SUMMARY:Aktiver Start in den Tag - Bewegung für Frauen
DESCRIPTION:FIT UND ENTSPANNT DURCH DEN ALLTAG! \nDas Angebot richtet sich an alle Frauen aus dem\nKiez\, die Lust haben sich in einem geschützten\nUmfeld zu bewegen und Körper und Geist etwas\nGutes zu tun. Durch behutsame Übungen werden\nVerspannungen gelockert\, die Mobilität verbessert\,\nMuskeln und Kraft Schritt für Schritt gestärkt\nund Energie für den Alltag gesammelt.\nVorkenntnisse sind nicht nötig.\nBitte an bequeme Kleidung denken. \nKeine Vorkenntnisse nötig.\nEine Voranmeldung ist\nnicht notwendig\, einfach\nvorbeikommen und mitmachen. \nDAS ANGEBOT\nIST KOSTENLOS! \nDo.\, 09:30 – 11:00 (wöchentlich)\nBadstraße 10\, 13357 Berlin\n(rechter Aufgang im Vorderhaus\,\n1.OG bei den Stadtteilmüttern/\nJugendclub Badstraße) \nFlyer
URL:https://www.brunnenviertel-brunnenstrasse.de/event/aktiver-start-in-den-tag-bewegung-fuer-frauen/2026-05-21/
LOCATION:Badstraße 10\, Badstraße 10\, Berlin\, 13357
END:VEVENT
BEGIN:VEVENT
DTSTART;TZID=Europe/Berlin:20260528T093000
DTEND;TZID=Europe/Berlin:20260528T110000
DTSTAMP:20260421T132457
CREATED:20250127T132732Z
LAST-MODIFIED:20250127T132732Z
UID:10000927-1779960600-1779966000@www.brunnenviertel-brunnenstrasse.de
SUMMARY:Aktiver Start in den Tag - Bewegung für Frauen
DESCRIPTION:FIT UND ENTSPANNT DURCH DEN ALLTAG! \nDas Angebot richtet sich an alle Frauen aus dem\nKiez\, die Lust haben sich in einem geschützten\nUmfeld zu bewegen und Körper und Geist etwas\nGutes zu tun. Durch behutsame Übungen werden\nVerspannungen gelockert\, die Mobilität verbessert\,\nMuskeln und Kraft Schritt für Schritt gestärkt\nund Energie für den Alltag gesammelt.\nVorkenntnisse sind nicht nötig.\nBitte an bequeme Kleidung denken. \nKeine Vorkenntnisse nötig.\nEine Voranmeldung ist\nnicht notwendig\, einfach\nvorbeikommen und mitmachen. \nDAS ANGEBOT\nIST KOSTENLOS! \nDo.\, 09:30 – 11:00 (wöchentlich)\nBadstraße 10\, 13357 Berlin\n(rechter Aufgang im Vorderhaus\,\n1.OG bei den Stadtteilmüttern/\nJugendclub Badstraße) \nFlyer
URL:https://www.brunnenviertel-brunnenstrasse.de/event/aktiver-start-in-den-tag-bewegung-fuer-frauen/2026-05-28/
LOCATION:Badstraße 10\, Badstraße 10\, Berlin\, 13357
END:VEVENT
BEGIN:VEVENT
DTSTART;TZID=Europe/Berlin:20260604T093000
DTEND;TZID=Europe/Berlin:20260604T110000
DTSTAMP:20260421T132457
CREATED:20250127T132732Z
LAST-MODIFIED:20250127T132732Z
UID:10000928-1780565400-1780570800@www.brunnenviertel-brunnenstrasse.de
SUMMARY:Aktiver Start in den Tag - Bewegung für Frauen
DESCRIPTION:FIT UND ENTSPANNT DURCH DEN ALLTAG! \nDas Angebot richtet sich an alle Frauen aus dem\nKiez\, die Lust haben sich in einem geschützten\nUmfeld zu bewegen und Körper und Geist etwas\nGutes zu tun. Durch behutsame Übungen werden\nVerspannungen gelockert\, die Mobilität verbessert\,\nMuskeln und Kraft Schritt für Schritt gestärkt\nund Energie für den Alltag gesammelt.\nVorkenntnisse sind nicht nötig.\nBitte an bequeme Kleidung denken. \nKeine Vorkenntnisse nötig.\nEine Voranmeldung ist\nnicht notwendig\, einfach\nvorbeikommen und mitmachen. \nDAS ANGEBOT\nIST KOSTENLOS! \nDo.\, 09:30 – 11:00 (wöchentlich)\nBadstraße 10\, 13357 Berlin\n(rechter Aufgang im Vorderhaus\,\n1.OG bei den Stadtteilmüttern/\nJugendclub Badstraße) \nFlyer
URL:https://www.brunnenviertel-brunnenstrasse.de/event/aktiver-start-in-den-tag-bewegung-fuer-frauen/2026-06-04/
LOCATION:Badstraße 10\, Badstraße 10\, Berlin\, 13357
END:VEVENT
BEGIN:VEVENT
DTSTART;TZID=Europe/Berlin:20260611T093000
DTEND;TZID=Europe/Berlin:20260611T110000
DTSTAMP:20260421T132457
CREATED:20250127T132732Z
LAST-MODIFIED:20250127T132732Z
UID:10000929-1781170200-1781175600@www.brunnenviertel-brunnenstrasse.de
SUMMARY:Aktiver Start in den Tag - Bewegung für Frauen
DESCRIPTION:FIT UND ENTSPANNT DURCH DEN ALLTAG! \nDas Angebot richtet sich an alle Frauen aus dem\nKiez\, die Lust haben sich in einem geschützten\nUmfeld zu bewegen und Körper und Geist etwas\nGutes zu tun. Durch behutsame Übungen werden\nVerspannungen gelockert\, die Mobilität verbessert\,\nMuskeln und Kraft Schritt für Schritt gestärkt\nund Energie für den Alltag gesammelt.\nVorkenntnisse sind nicht nötig.\nBitte an bequeme Kleidung denken. \nKeine Vorkenntnisse nötig.\nEine Voranmeldung ist\nnicht notwendig\, einfach\nvorbeikommen und mitmachen. \nDAS ANGEBOT\nIST KOSTENLOS! \nDo.\, 09:30 – 11:00 (wöchentlich)\nBadstraße 10\, 13357 Berlin\n(rechter Aufgang im Vorderhaus\,\n1.OG bei den Stadtteilmüttern/\nJugendclub Badstraße) \nFlyer
URL:https://www.brunnenviertel-brunnenstrasse.de/event/aktiver-start-in-den-tag-bewegung-fuer-frauen/2026-06-11/
LOCATION:Badstraße 10\, Badstraße 10\, Berlin\, 13357
END:VEVENT
BEGIN:VEVENT
DTSTART;TZID=Europe/Berlin:20260618T093000
DTEND;TZID=Europe/Berlin:20260618T110000
DTSTAMP:20260421T132457
CREATED:20250127T132732Z
LAST-MODIFIED:20250127T132732Z
UID:10000930-1781775000-1781780400@www.brunnenviertel-brunnenstrasse.de
SUMMARY:Aktiver Start in den Tag - Bewegung für Frauen
DESCRIPTION:FIT UND ENTSPANNT DURCH DEN ALLTAG! \nDas Angebot richtet sich an alle Frauen aus dem\nKiez\, die Lust haben sich in einem geschützten\nUmfeld zu bewegen und Körper und Geist etwas\nGutes zu tun. Durch behutsame Übungen werden\nVerspannungen gelockert\, die Mobilität verbessert\,\nMuskeln und Kraft Schritt für Schritt gestärkt\nund Energie für den Alltag gesammelt.\nVorkenntnisse sind nicht nötig.\nBitte an bequeme Kleidung denken. \nKeine Vorkenntnisse nötig.\nEine Voranmeldung ist\nnicht notwendig\, einfach\nvorbeikommen und mitmachen. \nDAS ANGEBOT\nIST KOSTENLOS! \nDo.\, 09:30 – 11:00 (wöchentlich)\nBadstraße 10\, 13357 Berlin\n(rechter Aufgang im Vorderhaus\,\n1.OG bei den Stadtteilmüttern/\nJugendclub Badstraße) \nFlyer
URL:https://www.brunnenviertel-brunnenstrasse.de/event/aktiver-start-in-den-tag-bewegung-fuer-frauen/2026-06-18/
LOCATION:Badstraße 10\, Badstraße 10\, Berlin\, 13357
END:VEVENT
BEGIN:VEVENT
DTSTART;TZID=Europe/Berlin:20260625T093000
DTEND;TZID=Europe/Berlin:20260625T110000
DTSTAMP:20260421T132457
CREATED:20250127T132732Z
LAST-MODIFIED:20250127T132732Z
UID:10000931-1782379800-1782385200@www.brunnenviertel-brunnenstrasse.de
SUMMARY:Aktiver Start in den Tag - Bewegung für Frauen
DESCRIPTION:FIT UND ENTSPANNT DURCH DEN ALLTAG! \nDas Angebot richtet sich an alle Frauen aus dem\nKiez\, die Lust haben sich in einem geschützten\nUmfeld zu bewegen und Körper und Geist etwas\nGutes zu tun. Durch behutsame Übungen werden\nVerspannungen gelockert\, die Mobilität verbessert\,\nMuskeln und Kraft Schritt für Schritt gestärkt\nund Energie für den Alltag gesammelt.\nVorkenntnisse sind nicht nötig.\nBitte an bequeme Kleidung denken. \nKeine Vorkenntnisse nötig.\nEine Voranmeldung ist\nnicht notwendig\, einfach\nvorbeikommen und mitmachen. \nDAS ANGEBOT\nIST KOSTENLOS! \nDo.\, 09:30 – 11:00 (wöchentlich)\nBadstraße 10\, 13357 Berlin\n(rechter Aufgang im Vorderhaus\,\n1.OG bei den Stadtteilmüttern/\nJugendclub Badstraße) \nFlyer
URL:https://www.brunnenviertel-brunnenstrasse.de/event/aktiver-start-in-den-tag-bewegung-fuer-frauen/2026-06-25/
LOCATION:Badstraße 10\, Badstraße 10\, Berlin\, 13357
END:VEVENT
BEGIN:VEVENT
DTSTART;TZID=Europe/Berlin:20260702T093000
DTEND;TZID=Europe/Berlin:20260702T110000
DTSTAMP:20260421T132457
CREATED:20250127T132732Z
LAST-MODIFIED:20250127T132732Z
UID:10000932-1782984600-1782990000@www.brunnenviertel-brunnenstrasse.de
SUMMARY:Aktiver Start in den Tag - Bewegung für Frauen
DESCRIPTION:FIT UND ENTSPANNT DURCH DEN ALLTAG! \nDas Angebot richtet sich an alle Frauen aus dem\nKiez\, die Lust haben sich in einem geschützten\nUmfeld zu bewegen und Körper und Geist etwas\nGutes zu tun. Durch behutsame Übungen werden\nVerspannungen gelockert\, die Mobilität verbessert\,\nMuskeln und Kraft Schritt für Schritt gestärkt\nund Energie für den Alltag gesammelt.\nVorkenntnisse sind nicht nötig.\nBitte an bequeme Kleidung denken. \nKeine Vorkenntnisse nötig.\nEine Voranmeldung ist\nnicht notwendig\, einfach\nvorbeikommen und mitmachen. \nDAS ANGEBOT\nIST KOSTENLOS! \nDo.\, 09:30 – 11:00 (wöchentlich)\nBadstraße 10\, 13357 Berlin\n(rechter Aufgang im Vorderhaus\,\n1.OG bei den Stadtteilmüttern/\nJugendclub Badstraße) \nFlyer
URL:https://www.brunnenviertel-brunnenstrasse.de/event/aktiver-start-in-den-tag-bewegung-fuer-frauen/2026-07-02/
LOCATION:Badstraße 10\, Badstraße 10\, Berlin\, 13357
END:VEVENT
BEGIN:VEVENT
DTSTART;TZID=Europe/Berlin:20260709T093000
DTEND;TZID=Europe/Berlin:20260709T110000
DTSTAMP:20260421T132457
CREATED:20250127T132732Z
LAST-MODIFIED:20250127T132732Z
UID:10000933-1783589400-1783594800@www.brunnenviertel-brunnenstrasse.de
SUMMARY:Aktiver Start in den Tag - Bewegung für Frauen
DESCRIPTION:FIT UND ENTSPANNT DURCH DEN ALLTAG! \nDas Angebot richtet sich an alle Frauen aus dem\nKiez\, die Lust haben sich in einem geschützten\nUmfeld zu bewegen und Körper und Geist etwas\nGutes zu tun. Durch behutsame Übungen werden\nVerspannungen gelockert\, die Mobilität verbessert\,\nMuskeln und Kraft Schritt für Schritt gestärkt\nund Energie für den Alltag gesammelt.\nVorkenntnisse sind nicht nötig.\nBitte an bequeme Kleidung denken. \nKeine Vorkenntnisse nötig.\nEine Voranmeldung ist\nnicht notwendig\, einfach\nvorbeikommen und mitmachen. \nDAS ANGEBOT\nIST KOSTENLOS! \nDo.\, 09:30 – 11:00 (wöchentlich)\nBadstraße 10\, 13357 Berlin\n(rechter Aufgang im Vorderhaus\,\n1.OG bei den Stadtteilmüttern/\nJugendclub Badstraße) \nFlyer
URL:https://www.brunnenviertel-brunnenstrasse.de/event/aktiver-start-in-den-tag-bewegung-fuer-frauen/2026-07-09/
LOCATION:Badstraße 10\, Badstraße 10\, Berlin\, 13357
END:VEVENT
BEGIN:VEVENT
DTSTART;TZID=Europe/Berlin:20260716T093000
DTEND;TZID=Europe/Berlin:20260716T110000
DTSTAMP:20260421T132457
CREATED:20250127T132732Z
LAST-MODIFIED:20250127T132732Z
UID:10000934-1784194200-1784199600@www.brunnenviertel-brunnenstrasse.de
SUMMARY:Aktiver Start in den Tag - Bewegung für Frauen
DESCRIPTION:FIT UND ENTSPANNT DURCH DEN ALLTAG! \nDas Angebot richtet sich an alle Frauen aus dem\nKiez\, die Lust haben sich in einem geschützten\nUmfeld zu bewegen und Körper und Geist etwas\nGutes zu tun. Durch behutsame Übungen werden\nVerspannungen gelockert\, die Mobilität verbessert\,\nMuskeln und Kraft Schritt für Schritt gestärkt\nund Energie für den Alltag gesammelt.\nVorkenntnisse sind nicht nötig.\nBitte an bequeme Kleidung denken. \nKeine Vorkenntnisse nötig.\nEine Voranmeldung ist\nnicht notwendig\, einfach\nvorbeikommen und mitmachen. \nDAS ANGEBOT\nIST KOSTENLOS! \nDo.\, 09:30 – 11:00 (wöchentlich)\nBadstraße 10\, 13357 Berlin\n(rechter Aufgang im Vorderhaus\,\n1.OG bei den Stadtteilmüttern/\nJugendclub Badstraße) \nFlyer
URL:https://www.brunnenviertel-brunnenstrasse.de/event/aktiver-start-in-den-tag-bewegung-fuer-frauen/2026-07-16/
LOCATION:Badstraße 10\, Badstraße 10\, Berlin\, 13357
END:VEVENT
BEGIN:VEVENT
DTSTART;TZID=Europe/Berlin:20260723T093000
DTEND;TZID=Europe/Berlin:20260723T110000
DTSTAMP:20260421T132457
CREATED:20250127T132732Z
LAST-MODIFIED:20250127T132732Z
UID:10000935-1784799000-1784804400@www.brunnenviertel-brunnenstrasse.de
SUMMARY:Aktiver Start in den Tag - Bewegung für Frauen
DESCRIPTION:FIT UND ENTSPANNT DURCH DEN ALLTAG! \nDas Angebot richtet sich an alle Frauen aus dem\nKiez\, die Lust haben sich in einem geschützten\nUmfeld zu bewegen und Körper und Geist etwas\nGutes zu tun. Durch behutsame Übungen werden\nVerspannungen gelockert\, die Mobilität verbessert\,\nMuskeln und Kraft Schritt für Schritt gestärkt\nund Energie für den Alltag gesammelt.\nVorkenntnisse sind nicht nötig.\nBitte an bequeme Kleidung denken. \nKeine Vorkenntnisse nötig.\nEine Voranmeldung ist\nnicht notwendig\, einfach\nvorbeikommen und mitmachen. \nDAS ANGEBOT\nIST KOSTENLOS! \nDo.\, 09:30 – 11:00 (wöchentlich)\nBadstraße 10\, 13357 Berlin\n(rechter Aufgang im Vorderhaus\,\n1.OG bei den Stadtteilmüttern/\nJugendclub Badstraße) \nFlyer
URL:https://www.brunnenviertel-brunnenstrasse.de/event/aktiver-start-in-den-tag-bewegung-fuer-frauen/2026-07-23/
LOCATION:Badstraße 10\, Badstraße 10\, Berlin\, 13357
END:VEVENT
BEGIN:VEVENT
DTSTART;TZID=Europe/Berlin:20260730T093000
DTEND;TZID=Europe/Berlin:20260730T110000
DTSTAMP:20260421T132457
CREATED:20250127T132732Z
LAST-MODIFIED:20250127T132732Z
UID:10000936-1785403800-1785409200@www.brunnenviertel-brunnenstrasse.de
SUMMARY:Aktiver Start in den Tag - Bewegung für Frauen
DESCRIPTION:FIT UND ENTSPANNT DURCH DEN ALLTAG! \nDas Angebot richtet sich an alle Frauen aus dem\nKiez\, die Lust haben sich in einem geschützten\nUmfeld zu bewegen und Körper und Geist etwas\nGutes zu tun. Durch behutsame Übungen werden\nVerspannungen gelockert\, die Mobilität verbessert\,\nMuskeln und Kraft Schritt für Schritt gestärkt\nund Energie für den Alltag gesammelt.\nVorkenntnisse sind nicht nötig.\nBitte an bequeme Kleidung denken. \nKeine Vorkenntnisse nötig.\nEine Voranmeldung ist\nnicht notwendig\, einfach\nvorbeikommen und mitmachen. \nDAS ANGEBOT\nIST KOSTENLOS! \nDo.\, 09:30 – 11:00 (wöchentlich)\nBadstraße 10\, 13357 Berlin\n(rechter Aufgang im Vorderhaus\,\n1.OG bei den Stadtteilmüttern/\nJugendclub Badstraße) \nFlyer
URL:https://www.brunnenviertel-brunnenstrasse.de/event/aktiver-start-in-den-tag-bewegung-fuer-frauen/2026-07-30/
LOCATION:Badstraße 10\, Badstraße 10\, Berlin\, 13357
END:VEVENT
END:VCALENDAR