BEGIN:VCALENDAR
VERSION:2.0
PRODID:-//QM Brunnenstraße - ECPv6.15.20//NONSGML v1.0//EN
CALSCALE:GREGORIAN
METHOD:PUBLISH
X-ORIGINAL-URL:https://www.brunnenviertel-brunnenstrasse.de
X-WR-CALDESC:Veranstaltungen für QM Brunnenstraße
REFRESH-INTERVAL;VALUE=DURATION:PT1H
X-Robots-Tag:noindex
X-PUBLISHED-TTL:PT1H
BEGIN:VTIMEZONE
TZID:Europe/Berlin
BEGIN:DAYLIGHT
TZOFFSETFROM:+0100
TZOFFSETTO:+0200
TZNAME:CEST
DTSTART:20250330T010000
END:DAYLIGHT
BEGIN:STANDARD
TZOFFSETFROM:+0200
TZOFFSETTO:+0100
TZNAME:CET
DTSTART:20251026T010000
END:STANDARD
BEGIN:DAYLIGHT
TZOFFSETFROM:+0100
TZOFFSETTO:+0200
TZNAME:CEST
DTSTART:20260329T010000
END:DAYLIGHT
BEGIN:STANDARD
TZOFFSETFROM:+0200
TZOFFSETTO:+0100
TZNAME:CET
DTSTART:20261025T010000
END:STANDARD
BEGIN:DAYLIGHT
TZOFFSETFROM:+0100
TZOFFSETTO:+0200
TZNAME:CEST
DTSTART:20270328T010000
END:DAYLIGHT
BEGIN:STANDARD
TZOFFSETFROM:+0200
TZOFFSETTO:+0100
TZNAME:CET
DTSTART:20271031T010000
END:STANDARD
END:VTIMEZONE
BEGIN:VEVENT
DTSTART;TZID=Europe/Berlin:20260427T170000
DTEND;TZID=Europe/Berlin:20260427T200000
DTSTAMP:20260421T151554
CREATED:20250307T132939Z
LAST-MODIFIED:20260119T122844Z
UID:10001550-1777309200-1777320000@www.brunnenviertel-brunnenstrasse.de
SUMMARY:Repaircafé Brunnenviertel
DESCRIPTION:Hast du einen kaputten Toaster zu Hause oder ein Bügeleisen\, was nicht mehr warm wird? Willst du ein Kabel löten oder einen neuen Schalter anbringen? Mit Unterstützung der Freiwilligen des Repaircafés kann dir das gelingen.\nEine Anmeldung ist keine Bedingung\, macht aber durchaus Sinn\, falls es viel Andrang gibt. \nAnmeldung über: repaircafe-brunnenviertel@mail.de
URL:https://www.brunnenviertel-brunnenstrasse.de/event/repaircafe-brunnenviertel/2026-04-27/
LOCATION:Olof-Palme-Stadtteilzentrum\, Demminer Straße 28\, Berlin\, 13355
ORGANIZER;CN="Repaircaf%C3%A9 Brunnenviertel":MAILTO:repaircafe-brunnenviertel@mail.de
END:VEVENT
BEGIN:VEVENT
DTSTART;TZID=Europe/Berlin:20260622T170000
DTEND;TZID=Europe/Berlin:20260622T200000
DTSTAMP:20260421T151554
CREATED:20260119T123057Z
LAST-MODIFIED:20260119T123057Z
UID:10001551-1782147600-1782158400@www.brunnenviertel-brunnenstrasse.de
SUMMARY:Repaircafé Brunnenviertel
DESCRIPTION:Hast du einen kaputten Toaster zu Hause oder ein Bügeleisen\, was nicht mehr warm wird? Willst du ein Kabel löten oder einen neuen Schalter anbringen? Mit Unterstützung der Freiwilligen des Repaircafés kann dir das gelingen.\nEine Anmeldung ist keine Bedingung\, macht aber durchaus Sinn\, falls es viel Andrang gibt. \nAnmeldung über: repaircafe-brunnenviertel@mail.de
URL:https://www.brunnenviertel-brunnenstrasse.de/event/repaircafe-brunnenviertel-2/
LOCATION:Olof-Palme-Stadtteilzentrum\, Demminer Straße 28\, Berlin\, 13355
ORGANIZER;CN="Repaircaf%C3%A9 Brunnenviertel":MAILTO:repaircafe-brunnenviertel@mail.de
END:VEVENT
BEGIN:VEVENT
DTSTART;TZID=Europe/Berlin:20260824T170000
DTEND;TZID=Europe/Berlin:20260824T200000
DTSTAMP:20260421T151554
CREATED:20260119T123310Z
LAST-MODIFIED:20260119T123433Z
UID:10001556-1787590800-1787601600@www.brunnenviertel-brunnenstrasse.de
SUMMARY:Repaircafé Brunnenviertel
DESCRIPTION:Hast du einen kaputten Toaster zu Hause oder ein Bügeleisen\, was nicht mehr warm wird? Willst du ein Kabel löten oder einen neuen Schalter anbringen? Mit Unterstützung der Freiwilligen des Repaircafés kann dir das gelingen.\nEine Anmeldung ist keine Bedingung\, macht aber durchaus Sinn\, falls es viel Andrang gibt. \nAnmeldung über: repaircafe-brunnenviertel@mail.de
URL:https://www.brunnenviertel-brunnenstrasse.de/event/repaircafe-brunnenviertel-3/2026-08-24/
LOCATION:Olof-Palme-Stadtteilzentrum\, Demminer Straße 28\, Berlin\, 13355
ORGANIZER;CN="Repaircaf%C3%A9 Brunnenviertel":MAILTO:repaircafe-brunnenviertel@mail.de
END:VEVENT
BEGIN:VEVENT
DTSTART;TZID=Europe/Berlin:20260928T170000
DTEND;TZID=Europe/Berlin:20260928T200000
DTSTAMP:20260421T151554
CREATED:20260119T123310Z
LAST-MODIFIED:20260119T123433Z
UID:10001557-1790614800-1790625600@www.brunnenviertel-brunnenstrasse.de
SUMMARY:Repaircafé Brunnenviertel
DESCRIPTION:Hast du einen kaputten Toaster zu Hause oder ein Bügeleisen\, was nicht mehr warm wird? Willst du ein Kabel löten oder einen neuen Schalter anbringen? Mit Unterstützung der Freiwilligen des Repaircafés kann dir das gelingen.\nEine Anmeldung ist keine Bedingung\, macht aber durchaus Sinn\, falls es viel Andrang gibt. \nAnmeldung über: repaircafe-brunnenviertel@mail.de
URL:https://www.brunnenviertel-brunnenstrasse.de/event/repaircafe-brunnenviertel-3/2026-09-28/
LOCATION:Olof-Palme-Stadtteilzentrum\, Demminer Straße 28\, Berlin\, 13355
ORGANIZER;CN="Repaircaf%C3%A9 Brunnenviertel":MAILTO:repaircafe-brunnenviertel@mail.de
END:VEVENT
BEGIN:VEVENT
DTSTART;TZID=Europe/Berlin:20261026T170000
DTEND;TZID=Europe/Berlin:20261026T200000
DTSTAMP:20260421T151554
CREATED:20260119T123310Z
LAST-MODIFIED:20260119T123433Z
UID:10001558-1793034000-1793044800@www.brunnenviertel-brunnenstrasse.de
SUMMARY:Repaircafé Brunnenviertel
DESCRIPTION:Hast du einen kaputten Toaster zu Hause oder ein Bügeleisen\, was nicht mehr warm wird? Willst du ein Kabel löten oder einen neuen Schalter anbringen? Mit Unterstützung der Freiwilligen des Repaircafés kann dir das gelingen.\nEine Anmeldung ist keine Bedingung\, macht aber durchaus Sinn\, falls es viel Andrang gibt. \nAnmeldung über: repaircafe-brunnenviertel@mail.de
URL:https://www.brunnenviertel-brunnenstrasse.de/event/repaircafe-brunnenviertel-3/2026-10-26/
LOCATION:Olof-Palme-Stadtteilzentrum\, Demminer Straße 28\, Berlin\, 13355
ORGANIZER;CN="Repaircaf%C3%A9 Brunnenviertel":MAILTO:repaircafe-brunnenviertel@mail.de
END:VEVENT
BEGIN:VEVENT
DTSTART;TZID=Europe/Berlin:20261123T170000
DTEND;TZID=Europe/Berlin:20261123T200000
DTSTAMP:20260421T151554
CREATED:20260119T123310Z
LAST-MODIFIED:20260119T123433Z
UID:10001559-1795453200-1795464000@www.brunnenviertel-brunnenstrasse.de
SUMMARY:Repaircafé Brunnenviertel
DESCRIPTION:Hast du einen kaputten Toaster zu Hause oder ein Bügeleisen\, was nicht mehr warm wird? Willst du ein Kabel löten oder einen neuen Schalter anbringen? Mit Unterstützung der Freiwilligen des Repaircafés kann dir das gelingen.\nEine Anmeldung ist keine Bedingung\, macht aber durchaus Sinn\, falls es viel Andrang gibt. \nAnmeldung über: repaircafe-brunnenviertel@mail.de
URL:https://www.brunnenviertel-brunnenstrasse.de/event/repaircafe-brunnenviertel-3/2026-11-23/
LOCATION:Olof-Palme-Stadtteilzentrum\, Demminer Straße 28\, Berlin\, 13355
ORGANIZER;CN="Repaircaf%C3%A9 Brunnenviertel":MAILTO:repaircafe-brunnenviertel@mail.de
END:VEVENT
END:VCALENDAR