BEGIN:VCALENDAR
VERSION:2.0
PRODID:-//QM Brunnenstraße - ECPv6.15.20//NONSGML v1.0//EN
CALSCALE:GREGORIAN
METHOD:PUBLISH
X-WR-CALNAME:QM Brunnenstraße
X-ORIGINAL-URL:https://www.brunnenviertel-brunnenstrasse.de
X-WR-CALDESC:Veranstaltungen für QM Brunnenstraße
REFRESH-INTERVAL;VALUE=DURATION:PT1H
X-Robots-Tag:noindex
X-PUBLISHED-TTL:PT1H
BEGIN:VTIMEZONE
TZID:Europe/Berlin
BEGIN:DAYLIGHT
TZOFFSETFROM:+0100
TZOFFSETTO:+0200
TZNAME:CEST
DTSTART:20230326T010000
END:DAYLIGHT
BEGIN:STANDARD
TZOFFSETFROM:+0200
TZOFFSETTO:+0100
TZNAME:CET
DTSTART:20231029T010000
END:STANDARD
BEGIN:DAYLIGHT
TZOFFSETFROM:+0100
TZOFFSETTO:+0200
TZNAME:CEST
DTSTART:20240331T010000
END:DAYLIGHT
BEGIN:STANDARD
TZOFFSETFROM:+0200
TZOFFSETTO:+0100
TZNAME:CET
DTSTART:20241027T010000
END:STANDARD
BEGIN:DAYLIGHT
TZOFFSETFROM:+0100
TZOFFSETTO:+0200
TZNAME:CEST
DTSTART:20250330T010000
END:DAYLIGHT
BEGIN:STANDARD
TZOFFSETFROM:+0200
TZOFFSETTO:+0100
TZNAME:CET
DTSTART:20251026T010000
END:STANDARD
BEGIN:DAYLIGHT
TZOFFSETFROM:+0100
TZOFFSETTO:+0200
TZNAME:CEST
DTSTART:20260329T010000
END:DAYLIGHT
BEGIN:STANDARD
TZOFFSETFROM:+0200
TZOFFSETTO:+0100
TZNAME:CET
DTSTART:20261025T010000
END:STANDARD
BEGIN:DAYLIGHT
TZOFFSETFROM:+0100
TZOFFSETTO:+0200
TZNAME:CEST
DTSTART:20270328T010000
END:DAYLIGHT
BEGIN:STANDARD
TZOFFSETFROM:+0200
TZOFFSETTO:+0100
TZNAME:CET
DTSTART:20271031T010000
END:STANDARD
END:VTIMEZONE
BEGIN:VEVENT
DTSTART;TZID=Europe/Berlin:20260319T163000
DTEND;TZID=Europe/Berlin:20260319T180000
DTSTAMP:20260422T032441
CREATED:20260312T140436Z
LAST-MODIFIED:20260312T140436Z
UID:10001565-1773937800-1773943200@www.brunnenviertel-brunnenstrasse.de
SUMMARY:Kunst vor der Haustür: Geführter Rundgang zu den Nightcaps im Brunnenviertel
DESCRIPTION:Sind euch schon die unterschiedlich gestalteten Laternen im Kiez aufgefallen? Ihr fragt euch\, was es mit den Kappen auf einigen Kugellampen auf sich hat? \n\n\n\nAm 19. März lädt der Quartiersrat Brunnenstraße zu einem Rundgang mit der Künstlerin Alona Rodeh ein. Sie hat die sogenannten „Nightcaps“ konzipiert – kunstvolle Lampenschirme\, die das Licht nach unten lenken und spielerisch auf das Thema Lichtverschmutzung aufmerksam machen. \nBei diesem Spaziergang durch das Brunnenviertel erkunden wir die Stadtlandschaft des Kiezes durch das Prisma der Straßenbeleuchtung und der bildenden Kunst. Wir besuchen einige der Skulpturen des Projekts Nightcaps und untersuchen\, wie diese vielfältigen Formen – inspiriert von religiösen Kopfbedeckungen bis hin zu ​Cappies – als funktionale Schirme wirken\, die das Licht nach unten lenken\, um den dunklen Himmel zu schützen. Unterwegs besprechen wir den gemeinschaftlichen Prozess hinter dem Projekt\, einschließlich der Workshops mit Anwohnern und der kontinuierlichen Unterstützung durch die degewo AG\, der die Straßenlaternen gehören. Kommt vorbei! \nDie Führung ist kostenlos\, es ist keine Anmeldung erforderlich. \nDonnerstag\, 19. März\, 16:30 Uhr | Treffpunkt vor dem Olof-Palme-Stadtteilzentrum\, Demminer Straße 28
URL:https://www.brunnenviertel-brunnenstrasse.de/event/kunst-vor-der-haustuer-gefuehrter-rundgang-zu-den-nightcaps-im-brunnenviertel/
LOCATION:Olof-Palme-Stadtteilzentrum\, Demminer Straße 28\, Berlin\, 13355
END:VEVENT
BEGIN:VEVENT
DTSTART;TZID=Europe/Berlin:20260316T150000
DTEND;TZID=Europe/Berlin:20260316T170000
DTSTAMP:20260422T032441
CREATED:20260312T133937Z
LAST-MODIFIED:20260312T135654Z
UID:10001564-1773673200-1773680400@www.brunnenviertel-brunnenstrasse.de
SUMMARY:Die Kitas aus dem Brunnenviertel stellen sich vor: Kitabörse am Montag\, 16. März
DESCRIPTION:Einladung zur „Kitabörse“ am Montag\, 16. März 2026\n\n\n\nIn welche Kita soll mein Kind gehen? Wie melde ich mein Kind für die Kita an? \nDas Koordinationsteam des Kitaverbund Brunnenviertel lädt ein zur „Kitabörse“ am Montag\, 16. März 2026. Hier stellen sich die Kitas aus dem Brunnenviertel vor und stehen für Fragen zu allen möglichen Themen rund um die Betreuung des Kindes zur Verfügung. \nZudem gibt es Informationen für Eltern zur Kitaanmeldung\, Sprachförderung und zu Kinder- und Familienangeboten im Kiez. \nAuch das FamilienServiceBüro ist vor Ort und berät und untersützt bei Fragen rund um Kinder- und Elterngeld\, Kitagutschein\, Unterhaltszuschuss etc. \nVor Ort wird es eine Kinderbetreuung geben. \n📅 Montag\, 16. März 2026\n⏱️ 15 – 17 Uhr\n📍 Olof-Palme-Stadtteilzentrum\, Demminer Straße 28 \nDiese Kitas sind mit dabei:\n\nKita Kinderparadies –  Ackerstraße 104\nKita Kinderburg – Badstraße 57/58\nEv. Kita Mauerhüpfer\, Bernauer Straße 115-118\nKita Haus 2\, Gleimstraße 46\nKita Ackerstraße 60\, Ackerstraße 60\nKita Wattstrasse\, Wattstraße 16\nKita Sternenhimmel\, Graunstraße 11a\nKIB Kindergarten Wolgaster Straße\, Wolgaster Straße 2-4\nKindertagespflege Die kleinen Entdecker\, Lortzingstraße 17\nKita Kikado\, Demminer Straße 5\nKita Max\, Brunnenstraße 85\nKita Kinderburg: Badstraße 57/58\nKita Kinderparadies\, Ackerstraße 104\nOutlaw Kita am Nettelbergplatz\, Reinickendorferstraße 110A\nVorschule Sprachfördereinrichtung Schillerfalter\nKita Schwedter Straße\, Schwedter Straße 232\n\nUnd außerdem:\n\nFamilienServiceBüro Mitte – Ansprechpartner für alle Fragen rund um die Familie (Elterngeld\, Kindergeld\, Kitagutschein\, Unterhaltsvorschuss etc.)\nFamilienzentrum Wattstraße und dem Projekt „Starke Familien fürs Brunnenviertel“\nSprachförderzentrum Mitte\nFachdienstleitung Tagesbetreuung\nQuartiersmanagement Brunnenstraße\nBildungskoordinatorin Lara Schiff\n\n\nKitas\, die noch teilnehmen wollen\, können sich gerne an lara.schiff@pfefferwerk.de wenden. \n\n\n\n\n\n\nإلى أيّ روضة سيذهب طفلي؟ \nكيف اقوم بتسجيل طفلي في الروضة؟ \nجلسة لرياض الاطفال في الحي للتعريف عن انفسهم \n📅يوم الاثنين في 16 آذار 2026 \n⏱️من الساعه 3 الى الساعة 5 عصراً \n📍Olof-Palme-Stadtteilzentrum\, Demminer Straße 28 \n\nÇocuğum hangi anaokuluna gitmeli? Çocuğumu bir kreşe nasıl kaydettirebilirim? \nMahalledeki kreşler kendilerini tanıtıyor \n📅 16 Mart 2026 Pazartesi\n⏱️ 15 – 17 h\n📍 Olof-Palme-Stadtteilzentrum\, Demminer Straße 28
URL:https://www.brunnenviertel-brunnenstrasse.de/event/die-kitas-aus-dem-brunnenviertel-stellen-sich-vor-kitaboerse-am-montag-16-maerz/
LOCATION:Olof-Palme-Stadtteilzentrum\, Demminer Straße 28\, Berlin\, 13355
END:VEVENT
BEGIN:VEVENT
DTSTART;TZID=Europe/Berlin:20251016T173000
DTEND;TZID=Europe/Berlin:20251016T193000
DTSTAMP:20260422T032441
CREATED:20250902T125044Z
LAST-MODIFIED:20250902T125044Z
UID:10001339-1760635800-1760643000@www.brunnenviertel-brunnenstrasse.de
SUMMARY:18. Quartiersratssitzung
DESCRIPTION:Alle Interessierten sind herzlich eingeladen an der 18. Quartiersratssitzung der Periode 23-25\, am 16. Oktober von 17:30 – 19:30 Uhr\, teilzunehmen. Die Sitzung ist öffentlich. Wir bitten um Anmeldung unter qm-brunnenstrasse@list-gmbh.de
URL:https://www.brunnenviertel-brunnenstrasse.de/event/18-quartiersratssitzung/
LOCATION:QM-Büro\, Swinemünder Straße 64\, Berlin\, 13355
END:VEVENT
BEGIN:VEVENT
DTSTART;TZID=Europe/Berlin:20250626T173000
DTEND;TZID=Europe/Berlin:20250626T193000
DTSTAMP:20260422T032441
CREATED:20250123T132016Z
LAST-MODIFIED:20250123T132016Z
UID:10000857-1750959000-1750966200@www.brunnenviertel-brunnenstrasse.de
SUMMARY:16. Quartiersratssitzung
DESCRIPTION:Alle Interessierten sind herzlich eingeladen an der 16. Quartiersratssitzung der Periode 23-25\, am 26. Juni von 17:30 – 19:30 Uhr\, teilzunehmen. Die Sitzung ist öffentlich. Wir bitten um Anmeldung unter qm-brunnenstrasse@list-gmbh.de
URL:https://www.brunnenviertel-brunnenstrasse.de/event/16-quartiersratssitzung/
LOCATION:QM-Büro\, Swinemünder Straße 64\, Berlin\, 13355
END:VEVENT
BEGIN:VEVENT
DTSTART;TZID=Europe/Berlin:20250522T173000
DTEND;TZID=Europe/Berlin:20250522T193000
DTSTAMP:20260422T032441
CREATED:20250123T131738Z
LAST-MODIFIED:20250513T114213Z
UID:10000856-1747935000-1747942200@www.brunnenviertel-brunnenstrasse.de
SUMMARY:15. Quartiersratssitzung
DESCRIPTION:Alle Interessierten sind herzlich eingeladen an der 15. Quartiersratssitzung der Periode 23-25\, am 23. Mai von 17:30 – 19:30 Uhr\, teilzunehmen. Die Sitzung ist öffentlich. Wir bitten um Anmeldung unter qm-brunnenstrasse@list-gmbh.de
URL:https://www.brunnenviertel-brunnenstrasse.de/event/15-quartiersratssitzung/
LOCATION:QM-Büro\, Swinemünder Straße 64\, Berlin\, 13355
END:VEVENT
BEGIN:VEVENT
DTSTART;TZID=Europe/Berlin:20250327T173000
DTEND;TZID=Europe/Berlin:20250327T193000
DTSTAMP:20260422T032441
CREATED:20250123T131617Z
LAST-MODIFIED:20250123T131617Z
UID:10000855-1743096600-1743103800@www.brunnenviertel-brunnenstrasse.de
SUMMARY:14. Quartiersratssitzung
DESCRIPTION:Alle Interessierten sind herzlich eingeladen an der 14. Quartiersratssitzung der Periode 23-25\, am 27. März von 17:30 – 19:30 Uhr\, teilzunehmen. Die Sitzung ist öffentlich. Wir bitten um Anmeldung unter qm-brunnenstrasse@list-gmbh.de
URL:https://www.brunnenviertel-brunnenstrasse.de/event/14-quartiersratssitzung/
LOCATION:QM-Büro\, Swinemünder Straße 64\, Berlin\, 13355
END:VEVENT
BEGIN:VEVENT
DTSTART;TZID=Europe/Berlin:20250227T173000
DTEND;TZID=Europe/Berlin:20250227T193000
DTSTAMP:20260422T032441
CREATED:20250123T131428Z
LAST-MODIFIED:20250123T131428Z
UID:10000854-1740677400-1740684600@www.brunnenviertel-brunnenstrasse.de
SUMMARY:13. Quartiersratssitzung
DESCRIPTION:Alle Interessierten sind herzlich eingeladen an der 13. Quartiersratssitzung der Periode 23-25\, am 27. Februar von 17:30 – 19:30 Uhr\, teilzunehmen. Die Sitzung ist öffentlich. Wir bitten um Anmeldung unter qm-brunnenstrasse@list-gmbh.de
URL:https://www.brunnenviertel-brunnenstrasse.de/event/13-quartiersratssitzung/
LOCATION:QM-Büro\, Swinemünder Straße 64\, Berlin\, 13355
END:VEVENT
BEGIN:VEVENT
DTSTART;TZID=Europe/Berlin:20250123T173000
DTEND;TZID=Europe/Berlin:20250123T193000
DTSTAMP:20260422T032441
CREATED:20250123T131332Z
LAST-MODIFIED:20250123T131332Z
UID:10000853-1737653400-1737660600@www.brunnenviertel-brunnenstrasse.de
SUMMARY:12. Quartiersratssitzung
DESCRIPTION:Alle Interessierten sind herzlich eingeladen an der 12. Quartiersratssitzung der Periode 23-25\, am 23. Januar von 17:30 – 19:30 Uhr\, teilzunehmen. Die Sitzung ist öffentlich. Wir bitten um Anmeldung unter qm-brunnenstrasse@list-gmbh.de
URL:https://www.brunnenviertel-brunnenstrasse.de/event/12-quartiersratssitzung/
LOCATION:QM-Büro\, Swinemünder Straße 64\, Berlin\, 13355
END:VEVENT
BEGIN:VEVENT
DTSTART;TZID=Europe/Berlin:20241205T173000
DTEND;TZID=Europe/Berlin:20241205T200000
DTSTAMP:20260422T032441
CREATED:20240430T125310Z
LAST-MODIFIED:20241104T165518Z
UID:10000026-1733419800-1733428800@www.brunnenviertel-brunnenstrasse.de
SUMMARY:11. Quartiersratssitzung
DESCRIPTION:Alle Interessierten sind herzlich eingeladen an der 11. Quartiersratssitzung der Periode 23-25\, am 21. November von 17:30 – 20:00 Uhr\, teilzunehmen. Die Sitzung ist öffentlich. Wir bitten um Anmeldung unter qm-brunnenstrasse@list-gmbh.de
URL:https://www.brunnenviertel-brunnenstrasse.de/event/11-quartiersratssitzung/
CATEGORIES:Allgemein
END:VEVENT
BEGIN:VEVENT
DTSTART;TZID=Europe/Berlin:20241017T173000
DTEND;TZID=Europe/Berlin:20241017T200000
DTSTAMP:20260422T032441
CREATED:20240430T125217Z
LAST-MODIFIED:20240430T125217Z
UID:10000025-1729186200-1729195200@www.brunnenviertel-brunnenstrasse.de
SUMMARY:10. Quartiersratssitzung
DESCRIPTION:Alle Interessierten sind herzlich eingeladen an der 10. Quartiersratssitzung der Periode 23-25\, am 17. Oktober von 17:30 – 20:00 Uhr\, teilzunehmen. Die Sitzung ist öffentlich. Wir bitten um Anmeldung unter qm-brunnenstrasse@list-gmbh.de
URL:https://www.brunnenviertel-brunnenstrasse.de/event/10-quartiersratssitzung/
CATEGORIES:Allgemein
END:VEVENT
BEGIN:VEVENT
DTSTART;TZID=Europe/Berlin:20240926T173000
DTEND;TZID=Europe/Berlin:20240926T200000
DTSTAMP:20260422T032441
CREATED:20240430T125127Z
LAST-MODIFIED:20240430T125127Z
UID:10000024-1727371800-1727380800@www.brunnenviertel-brunnenstrasse.de
SUMMARY:9. Quartiersratssitzung
DESCRIPTION:Alle Interessierten sind herzlich eingeladen an der 9. Quartiersratssitzung der Periode 23-25\, am 26. September von 17:30 – 20:00 Uhr\, teilzunehmen. Die Sitzung ist öffentlich. Wir bitten um Anmeldung unter qm-brunnenstrasse@list-gmbh.de
URL:https://www.brunnenviertel-brunnenstrasse.de/event/9-quartiersratssitzung/
CATEGORIES:Allgemein
END:VEVENT
END:VCALENDAR