BEGIN:VCALENDAR
VERSION:2.0
PRODID:-//QM Brunnenstraße - ECPv6.15.20//NONSGML v1.0//EN
CALSCALE:GREGORIAN
METHOD:PUBLISH
X-WR-CALNAME:QM Brunnenstraße
X-ORIGINAL-URL:https://www.brunnenviertel-brunnenstrasse.de
X-WR-CALDESC:Veranstaltungen für QM Brunnenstraße
REFRESH-INTERVAL;VALUE=DURATION:PT1H
X-Robots-Tag:noindex
X-PUBLISHED-TTL:PT1H
BEGIN:VTIMEZONE
TZID:Europe/Berlin
BEGIN:DAYLIGHT
TZOFFSETFROM:+0100
TZOFFSETTO:+0200
TZNAME:CEST
DTSTART:20240331T010000
END:DAYLIGHT
BEGIN:STANDARD
TZOFFSETFROM:+0200
TZOFFSETTO:+0100
TZNAME:CET
DTSTART:20241027T010000
END:STANDARD
BEGIN:DAYLIGHT
TZOFFSETFROM:+0100
TZOFFSETTO:+0200
TZNAME:CEST
DTSTART:20250330T010000
END:DAYLIGHT
BEGIN:STANDARD
TZOFFSETFROM:+0200
TZOFFSETTO:+0100
TZNAME:CET
DTSTART:20251026T010000
END:STANDARD
BEGIN:DAYLIGHT
TZOFFSETFROM:+0100
TZOFFSETTO:+0200
TZNAME:CEST
DTSTART:20260329T010000
END:DAYLIGHT
BEGIN:STANDARD
TZOFFSETFROM:+0200
TZOFFSETTO:+0100
TZNAME:CET
DTSTART:20261025T010000
END:STANDARD
END:VTIMEZONE
BEGIN:VEVENT
DTSTART;TZID=Europe/Berlin:20251002T180000
DTEND;TZID=Europe/Berlin:20251002T230000
DTSTAMP:20260423T222835
CREATED:20250904T123951Z
LAST-MODIFIED:20250904T123951Z
UID:10001345-1759428000-1759446000@www.brunnenviertel-brunnenstrasse.de
SUMMARY:Einbürgerungsfeier für Neubürger*innen in Mitte
DESCRIPTION:Das Bezirksamt Mitte lädt ein\, die vielfältige Gesellschaft  des Bezirks Mitte zu feiern. Eingeladen bist du\, wenn du eingebürgert bist und in Mitte lebst. Das Einbürgerungsfest dient der Anerkennung und Wertschätzung und soll die Vielfalt von Mitte in den Vordergrund rücken. \n  \nDonnerstag\, 2. Oktober\, 18:15 – 23 Uhr (Einlass ab 17:15) | Festsaal der Berliner Stadtmission\, Lehrter Straße 68\, 10557 Berlin | Mehr Informationen hier.
URL:https://www.brunnenviertel-brunnenstrasse.de/event/einbuergerungsfeier-fuer-neubuergerinnen-in-mitte/
LOCATION:Festsaal der Berliner Stadtmission\, Lehrter Straße 68\, Berlin\, 10557
END:VEVENT
BEGIN:VEVENT
DTSTART;TZID=Europe/Berlin:20250917T140000
DTEND;TZID=Europe/Berlin:20250917T180000
DTSTAMP:20260423T222835
CREATED:20250904T130721Z
LAST-MODIFIED:20250904T130721Z
UID:10001348-1758117600-1758132000@www.brunnenviertel-brunnenstrasse.de
SUMMARY:Müllfest am Leopoldplatz
DESCRIPTION:Unter dem Motto „Was können wir tun\, um unsere Stadt sauberer und lebenswerter zu gestalten?“ lädt das Bezirksamt Mitte von Berlin herzlich zum Müllfest am LEO ein. Der Leopoldplatz\, der Spielplatz\, die Parkbank: Das sind die Wohnzimmer\, Gärten und Treffpunkte unseres Alltags – nur ohne Tür. Und wie zu Hause gilt auch draußen: Wer es schön haben will\, sollte mit anpacken. Klingt nach Arbeit? Vielleicht. Aber es darf dabei auch gelacht\, gelernt und gefeiert werden – auf zum Müllfest! Die Veranstaltung ist Teil der bezirklichen Kampagne #MitteMachtSauber und wird von LIFE Bildung Umwelt Chancengleichheit e.V. organisiert.
URL:https://www.brunnenviertel-brunnenstrasse.de/event/muellfest-am-leopoldplatz/
LOCATION:Leopoldplatz\, Leopoldplatz\, Berlin\, 13353
END:VEVENT
END:VCALENDAR