BEGIN:VCALENDAR
VERSION:2.0
PRODID:-//QM Brunnenstraße - ECPv6.15.20//NONSGML v1.0//EN
CALSCALE:GREGORIAN
METHOD:PUBLISH
X-ORIGINAL-URL:https://www.brunnenviertel-brunnenstrasse.de
X-WR-CALDESC:Veranstaltungen für QM Brunnenstraße
REFRESH-INTERVAL;VALUE=DURATION:PT1H
X-Robots-Tag:noindex
X-PUBLISHED-TTL:PT1H
BEGIN:VTIMEZONE
TZID:Europe/Berlin
BEGIN:DAYLIGHT
TZOFFSETFROM:+0100
TZOFFSETTO:+0200
TZNAME:CEST
DTSTART:20250330T010000
END:DAYLIGHT
BEGIN:STANDARD
TZOFFSETFROM:+0200
TZOFFSETTO:+0100
TZNAME:CET
DTSTART:20251026T010000
END:STANDARD
BEGIN:DAYLIGHT
TZOFFSETFROM:+0100
TZOFFSETTO:+0200
TZNAME:CEST
DTSTART:20260329T010000
END:DAYLIGHT
BEGIN:STANDARD
TZOFFSETFROM:+0200
TZOFFSETTO:+0100
TZNAME:CET
DTSTART:20261025T010000
END:STANDARD
BEGIN:DAYLIGHT
TZOFFSETFROM:+0100
TZOFFSETTO:+0200
TZNAME:CEST
DTSTART:20270328T010000
END:DAYLIGHT
BEGIN:STANDARD
TZOFFSETFROM:+0200
TZOFFSETTO:+0100
TZNAME:CET
DTSTART:20271031T010000
END:STANDARD
END:VTIMEZONE
BEGIN:VEVENT
DTSTART;TZID=Europe/Berlin:20261001T100000
DTEND;TZID=Europe/Berlin:20261001T113000
DTSTAMP:20260423T201901
CREATED:20241112T093958Z
LAST-MODIFIED:20241112T093958Z
UID:10000661-1790848800-1790854200@www.brunnenviertel-brunnenstrasse.de
SUMMARY:Sprachcafé im OPZ
DESCRIPTION:Für wen ist das Sprachcafé? \n\nfür Menschen\, die ihre Deutschkenntnisse verbessern wollen\n\n\nfür alle\, die neue Leute kennenlernen und sich austauschen möchten\n\nEgal\, ob mit oder ohne Sprachkenntnisse – komm einfach vorbei. Das Sprachcafé ist kostenlos. \nWann und wo? \n Jeden Donnerstag von 10:00 bis 11:30 Uhr\n „Olof Palme“ Stadtteilzentrum\, Demminer Str. 28\, 13355 Berlin\n Kinderbetreuung für die Kleinen ist vorhanden \nBringt gern Snacks mit. Kaffee und Tee gibt es vor Ort. \nÜber eine kleine Spende freuen wir uns! \nAnmeldung? \nKeine Anmeldung nötig! Komm einfach vorbei und mach mit. \nWarum mitmachen? \n\nüben in einer entspannten Atmosphäre\n\n\nfreundliche Gesprächspartner*innen und Muttersprachler*innen\n\n\nSpaß am Sprechen durch Spiele und Aktivitäten\n\n\ninterkultureller Austausch und neue Freundschaften\n\nWir freuen uns auf dich!
URL:https://www.brunnenviertel-brunnenstrasse.de/event/sprachcafe-im-opz/2026-10-01/
LOCATION:Olof-Palme-Stadtteilzentrum\, Demminer Straße 28\, Berlin\, 13355
END:VEVENT
BEGIN:VEVENT
DTSTART;TZID=Europe/Berlin:20261004T143000
DTEND;TZID=Europe/Berlin:20261004T163000
DTSTAMP:20260423T201901
CREATED:20260409T135227Z
LAST-MODIFIED:20260409T141556Z
UID:10001590-1791124200-1791131400@www.brunnenviertel-brunnenstrasse.de
SUMMARY:Familiensonntag mit Zirkusprogramm im OPZ
DESCRIPTION:Ab dem 19. April 2026 heißt es wieder: Familiensonntag im Brunnenviertel – diesmal mit Zirkusprogramm von Corragio! Jeden Sonntag von 14.30-16.30 Uhr können Kinder bis 10 Jahre gemeinsam mit ihren Eltern spannende Zirkusaktionen erleben. Das Angebot ist kostenlos und eine Anmeldung ist nicht erforderlich. \n  \nMehr Informationen hier.
URL:https://www.brunnenviertel-brunnenstrasse.de/event/familiensonntag-mit-zirkusprogramm-im-opz/2026-10-04/
END:VEVENT
BEGIN:VEVENT
DTSTART;TZID=Europe/Berlin:20261005T113000
DTEND;TZID=Europe/Berlin:20261005T123000
DTSTAMP:20260423T201901
CREATED:20260409T141423Z
LAST-MODIFIED:20260409T141423Z
UID:10001673-1791199800-1791203400@www.brunnenviertel-brunnenstrasse.de
SUMMARY:Inklusionsberatung im Olof-Palme-Stadtteilzentrum
DESCRIPTION:Ab dem 13. April 2026 gibt es im Olof-Palme-Stadtteilzentrum jeden Montag von 11.30 bis 12.30 Uhr eine neue Inklusionsberatung. Inklusionsberaterin Jenny vom Verband für sozial-kulturelle Arbeit e.V. unterstützt Menschen mit Behinderungen oder chronischen Erkrankungen sowie ihre Angehörigen bei Fragen zu Teilhabe\, Unterstützungsmöglichkeiten und Angeboten im Kiez. \nDie Beratung ist kostenlos und persönlich. \nBeratung immer montags\, 11.30 bis 12.30 Uhr | Olof-Palme-Stadtteilzentrum\, Demminer Straße 28 | Mehr Informationen hier.
URL:https://www.brunnenviertel-brunnenstrasse.de/event/inklusionsberatung-im-olof-palme-stadtteilzentrum/2026-10-05/
END:VEVENT
BEGIN:VEVENT
DTSTART;TZID=Europe/Berlin:20261007T100000
DTEND;TZID=Europe/Berlin:20261007T120000
DTSTAMP:20260423T201901
CREATED:20241112T093449Z
LAST-MODIFIED:20241112T093449Z
UID:10000401-1791367200-1791374400@www.brunnenviertel-brunnenstrasse.de
SUMMARY:Stadtteilmütter im OPZ (Beratung für Frauen*)
DESCRIPTION:Frauen\, die Fragen zu den folgenden Themen haben\, sind mittwochs zwischen 10 und 12 Uhr im Olof-Palme-Stadtteilzentrum genau richtig: \n\nSozialberatung \n(Finanzielle Unterstützung\, Familien- und Erziehungsfragen\, Psychosoziale Unterstützung\, berufliche Orientierung\, Gesundheit\, Wohnrausuche u.v.m.)\nBeratung für Schwangere \n(Gesundheit & Ernährung\, Elternbildung\, rechtliche Aspekte\, Partner- und Familienberatung\, Hilfsangebote etc.)\nMigrationsberatung \n(Aufenthaltsrecht\, Integration\, Bildungs- und Ausbildungsmöglichkeiten\, soziale Leistungen\, Netzwerke und Kontakte)\nRechtsberatung \n(Asylrecht\, Hartz IV\, Unfälle\, Sorgerecht\, Rentenansprüche u.v.m.)\nMietberatung \n(Wohngeld\, Schlichtung von Konflikten\, Nebenkosten\, Mieterhöhung)\nAnerkennung von ausländischen Abschlüssen\, um die Gleichwertigkeit mit Deutschen\n\nWer sind die Stadtteilmütter? \nErfahrene und qualifizierte Ansprechpartnerinnern zu einer Vielzahl von Themen rund um Familie\, Sprachförderung\, Bildung und Integration. Sie bieten persönliche Gespräche an\, begleiten zu Beratungsstellen\, Fachdiensten\, Ämtern und anderen relevanten Einrichtungen. Außerdem sind sie gut vernetzt\, informieren zu Angeboten im Kiez und Fragen rund um Gesundheit und Erziehung. \nIm OPZ unterstützen uns Serap und Nissrine\, die an ihren roten Schals und Stadtteilmütter-Anhängern zu erkennen sind\, nun schon seit ein paar Wochen.\nAuf Türkisch\, Arabisch\, Englisch und Deutsch – auf Anfrage auch in anderen Sprachen von Albanisch bis Serbisch – bieten sie Angesicht zu Angesicht ein offenes Ohr und Rat\, stellen Brücken zu Hilf- und Unterstützungsangeboten her. Es ist der Anfang von Beratungsangeboten in unseren Räumlichkeiten\, welches wir stetig ausbauen wollen. Wenn ihr dazu also weitere Wünsche und Ideen habt\, kommt doch gern auf uns zu. \nJeden Mittwoch\, 10-12 Uhr im Olof-Palme-Stadtteilzentrum beim Frühstück für Frauen.\nKontakt: https://bethania.de/stadtteilmuetter-in-mitte \nHinweis: im Sprachförderzentrum Mitte\, Badstr. 10\, 13357 Berlin\, können sich Mo.-Mi. (10-13 Uhr) und Do. (10-15 Uhr) auch Männer zur Beratung melden.
URL:https://www.brunnenviertel-brunnenstrasse.de/event/stadtteilmuetter-im-opz-beratung-fuer-frauen/2026-10-07/
LOCATION:Olof-Palme-Stadtteilzentrum\, Demminer Straße 28\, Berlin\, 13355
END:VEVENT
BEGIN:VEVENT
DTSTART;TZID=Europe/Berlin:20261008T100000
DTEND;TZID=Europe/Berlin:20261008T113000
DTSTAMP:20260423T201901
CREATED:20241112T093958Z
LAST-MODIFIED:20241112T093958Z
UID:10000662-1791453600-1791459000@www.brunnenviertel-brunnenstrasse.de
SUMMARY:Sprachcafé im OPZ
DESCRIPTION:Für wen ist das Sprachcafé? \n\nfür Menschen\, die ihre Deutschkenntnisse verbessern wollen\n\n\nfür alle\, die neue Leute kennenlernen und sich austauschen möchten\n\nEgal\, ob mit oder ohne Sprachkenntnisse – komm einfach vorbei. Das Sprachcafé ist kostenlos. \nWann und wo? \n Jeden Donnerstag von 10:00 bis 11:30 Uhr\n „Olof Palme“ Stadtteilzentrum\, Demminer Str. 28\, 13355 Berlin\n Kinderbetreuung für die Kleinen ist vorhanden \nBringt gern Snacks mit. Kaffee und Tee gibt es vor Ort. \nÜber eine kleine Spende freuen wir uns! \nAnmeldung? \nKeine Anmeldung nötig! Komm einfach vorbei und mach mit. \nWarum mitmachen? \n\nüben in einer entspannten Atmosphäre\n\n\nfreundliche Gesprächspartner*innen und Muttersprachler*innen\n\n\nSpaß am Sprechen durch Spiele und Aktivitäten\n\n\ninterkultureller Austausch und neue Freundschaften\n\nWir freuen uns auf dich!
URL:https://www.brunnenviertel-brunnenstrasse.de/event/sprachcafe-im-opz/2026-10-08/
LOCATION:Olof-Palme-Stadtteilzentrum\, Demminer Straße 28\, Berlin\, 13355
END:VEVENT
BEGIN:VEVENT
DTSTART;TZID=Europe/Berlin:20261011T143000
DTEND;TZID=Europe/Berlin:20261011T163000
DTSTAMP:20260423T201901
CREATED:20260409T135227Z
LAST-MODIFIED:20260409T141556Z
UID:10001591-1791729000-1791736200@www.brunnenviertel-brunnenstrasse.de
SUMMARY:Familiensonntag mit Zirkusprogramm im OPZ
DESCRIPTION:Ab dem 19. April 2026 heißt es wieder: Familiensonntag im Brunnenviertel – diesmal mit Zirkusprogramm von Corragio! Jeden Sonntag von 14.30-16.30 Uhr können Kinder bis 10 Jahre gemeinsam mit ihren Eltern spannende Zirkusaktionen erleben. Das Angebot ist kostenlos und eine Anmeldung ist nicht erforderlich. \n  \nMehr Informationen hier.
URL:https://www.brunnenviertel-brunnenstrasse.de/event/familiensonntag-mit-zirkusprogramm-im-opz/2026-10-11/
END:VEVENT
BEGIN:VEVENT
DTSTART;TZID=Europe/Berlin:20261012T113000
DTEND;TZID=Europe/Berlin:20261012T123000
DTSTAMP:20260423T201901
CREATED:20260409T141423Z
LAST-MODIFIED:20260409T141423Z
UID:10001674-1791804600-1791808200@www.brunnenviertel-brunnenstrasse.de
SUMMARY:Inklusionsberatung im Olof-Palme-Stadtteilzentrum
DESCRIPTION:Ab dem 13. April 2026 gibt es im Olof-Palme-Stadtteilzentrum jeden Montag von 11.30 bis 12.30 Uhr eine neue Inklusionsberatung. Inklusionsberaterin Jenny vom Verband für sozial-kulturelle Arbeit e.V. unterstützt Menschen mit Behinderungen oder chronischen Erkrankungen sowie ihre Angehörigen bei Fragen zu Teilhabe\, Unterstützungsmöglichkeiten und Angeboten im Kiez. \nDie Beratung ist kostenlos und persönlich. \nBeratung immer montags\, 11.30 bis 12.30 Uhr | Olof-Palme-Stadtteilzentrum\, Demminer Straße 28 | Mehr Informationen hier.
URL:https://www.brunnenviertel-brunnenstrasse.de/event/inklusionsberatung-im-olof-palme-stadtteilzentrum/2026-10-12/
END:VEVENT
BEGIN:VEVENT
DTSTART;TZID=Europe/Berlin:20261014T100000
DTEND;TZID=Europe/Berlin:20261014T120000
DTSTAMP:20260423T201901
CREATED:20241112T093449Z
LAST-MODIFIED:20241112T093449Z
UID:10000402-1791972000-1791979200@www.brunnenviertel-brunnenstrasse.de
SUMMARY:Stadtteilmütter im OPZ (Beratung für Frauen*)
DESCRIPTION:Frauen\, die Fragen zu den folgenden Themen haben\, sind mittwochs zwischen 10 und 12 Uhr im Olof-Palme-Stadtteilzentrum genau richtig: \n\nSozialberatung \n(Finanzielle Unterstützung\, Familien- und Erziehungsfragen\, Psychosoziale Unterstützung\, berufliche Orientierung\, Gesundheit\, Wohnrausuche u.v.m.)\nBeratung für Schwangere \n(Gesundheit & Ernährung\, Elternbildung\, rechtliche Aspekte\, Partner- und Familienberatung\, Hilfsangebote etc.)\nMigrationsberatung \n(Aufenthaltsrecht\, Integration\, Bildungs- und Ausbildungsmöglichkeiten\, soziale Leistungen\, Netzwerke und Kontakte)\nRechtsberatung \n(Asylrecht\, Hartz IV\, Unfälle\, Sorgerecht\, Rentenansprüche u.v.m.)\nMietberatung \n(Wohngeld\, Schlichtung von Konflikten\, Nebenkosten\, Mieterhöhung)\nAnerkennung von ausländischen Abschlüssen\, um die Gleichwertigkeit mit Deutschen\n\nWer sind die Stadtteilmütter? \nErfahrene und qualifizierte Ansprechpartnerinnern zu einer Vielzahl von Themen rund um Familie\, Sprachförderung\, Bildung und Integration. Sie bieten persönliche Gespräche an\, begleiten zu Beratungsstellen\, Fachdiensten\, Ämtern und anderen relevanten Einrichtungen. Außerdem sind sie gut vernetzt\, informieren zu Angeboten im Kiez und Fragen rund um Gesundheit und Erziehung. \nIm OPZ unterstützen uns Serap und Nissrine\, die an ihren roten Schals und Stadtteilmütter-Anhängern zu erkennen sind\, nun schon seit ein paar Wochen.\nAuf Türkisch\, Arabisch\, Englisch und Deutsch – auf Anfrage auch in anderen Sprachen von Albanisch bis Serbisch – bieten sie Angesicht zu Angesicht ein offenes Ohr und Rat\, stellen Brücken zu Hilf- und Unterstützungsangeboten her. Es ist der Anfang von Beratungsangeboten in unseren Räumlichkeiten\, welches wir stetig ausbauen wollen. Wenn ihr dazu also weitere Wünsche und Ideen habt\, kommt doch gern auf uns zu. \nJeden Mittwoch\, 10-12 Uhr im Olof-Palme-Stadtteilzentrum beim Frühstück für Frauen.\nKontakt: https://bethania.de/stadtteilmuetter-in-mitte \nHinweis: im Sprachförderzentrum Mitte\, Badstr. 10\, 13357 Berlin\, können sich Mo.-Mi. (10-13 Uhr) und Do. (10-15 Uhr) auch Männer zur Beratung melden.
URL:https://www.brunnenviertel-brunnenstrasse.de/event/stadtteilmuetter-im-opz-beratung-fuer-frauen/2026-10-14/
LOCATION:Olof-Palme-Stadtteilzentrum\, Demminer Straße 28\, Berlin\, 13355
END:VEVENT
BEGIN:VEVENT
DTSTART;TZID=Europe/Berlin:20261015T100000
DTEND;TZID=Europe/Berlin:20261015T113000
DTSTAMP:20260423T201901
CREATED:20241112T093958Z
LAST-MODIFIED:20241112T093958Z
UID:10000663-1792058400-1792063800@www.brunnenviertel-brunnenstrasse.de
SUMMARY:Sprachcafé im OPZ
DESCRIPTION:Für wen ist das Sprachcafé? \n\nfür Menschen\, die ihre Deutschkenntnisse verbessern wollen\n\n\nfür alle\, die neue Leute kennenlernen und sich austauschen möchten\n\nEgal\, ob mit oder ohne Sprachkenntnisse – komm einfach vorbei. Das Sprachcafé ist kostenlos. \nWann und wo? \n Jeden Donnerstag von 10:00 bis 11:30 Uhr\n „Olof Palme“ Stadtteilzentrum\, Demminer Str. 28\, 13355 Berlin\n Kinderbetreuung für die Kleinen ist vorhanden \nBringt gern Snacks mit. Kaffee und Tee gibt es vor Ort. \nÜber eine kleine Spende freuen wir uns! \nAnmeldung? \nKeine Anmeldung nötig! Komm einfach vorbei und mach mit. \nWarum mitmachen? \n\nüben in einer entspannten Atmosphäre\n\n\nfreundliche Gesprächspartner*innen und Muttersprachler*innen\n\n\nSpaß am Sprechen durch Spiele und Aktivitäten\n\n\ninterkultureller Austausch und neue Freundschaften\n\nWir freuen uns auf dich!
URL:https://www.brunnenviertel-brunnenstrasse.de/event/sprachcafe-im-opz/2026-10-15/
LOCATION:Olof-Palme-Stadtteilzentrum\, Demminer Straße 28\, Berlin\, 13355
END:VEVENT
BEGIN:VEVENT
DTSTART;TZID=Europe/Berlin:20261015T183000
DTEND;TZID=Europe/Berlin:20261015T203000
DTSTAMP:20260423T201901
CREATED:20260106T102025Z
LAST-MODIFIED:20260106T102257Z
UID:10001530-1792089000-1792096200@www.brunnenviertel-brunnenstrasse.de
SUMMARY:Handarbeitstreff in der Waschküche
DESCRIPTION:Handarbeitstreff\nam Donnerstag\, 15.1.2026\, 18:30 – 20:30 Uhr (jeden 3. Donnerstag im Monat) im Nachbarschaftsraum Waschküche\, Feldstraße 10\, 13355 Berlin \nHast Du Lust\, gemeinsam kreativ zu werden? Ob nähen\, stricken\, häkeln\, basteln oder andere Handarbeiten\, beim Handarbeitstreff sind alle willkommen! \nJana bringt ihre Nähmaschine mit\, vor Ort gibt es noch ein paar weitere. Du kannst dein eigenes Projekt mitbringen oder dich inspirieren lassen. Es geht um Gemeinschaft\, Austausch und Freude am Selbermachen. \nFür Tee\, Kaffee und gute Stimmung ist gesorgt. Komm vorbei\, bring dein Handarbeitszeug mit und mach mit – gemeinsam macht’s einfach mehr Spaß! \nVoranmeldung für Nähen mit der Maschine: jana.ammerschuber@gmail.com \nhttps://waschkueche-brunnenviertel.de/handarbeitstreff/
URL:https://www.brunnenviertel-brunnenstrasse.de/event/handarbeitstreff-in-der-waschkueche/2026-10-15/
LOCATION:Waschküche\, Feldstraße 10\, Berlin\, 13355
END:VEVENT
BEGIN:VEVENT
DTSTART;TZID=Europe/Berlin:20261018T143000
DTEND;TZID=Europe/Berlin:20261018T163000
DTSTAMP:20260423T201901
CREATED:20260409T135227Z
LAST-MODIFIED:20260409T141556Z
UID:10001592-1792333800-1792341000@www.brunnenviertel-brunnenstrasse.de
SUMMARY:Familiensonntag mit Zirkusprogramm im OPZ
DESCRIPTION:Ab dem 19. April 2026 heißt es wieder: Familiensonntag im Brunnenviertel – diesmal mit Zirkusprogramm von Corragio! Jeden Sonntag von 14.30-16.30 Uhr können Kinder bis 10 Jahre gemeinsam mit ihren Eltern spannende Zirkusaktionen erleben. Das Angebot ist kostenlos und eine Anmeldung ist nicht erforderlich. \n  \nMehr Informationen hier.
URL:https://www.brunnenviertel-brunnenstrasse.de/event/familiensonntag-mit-zirkusprogramm-im-opz/2026-10-18/
END:VEVENT
BEGIN:VEVENT
DTSTART;TZID=Europe/Berlin:20261019T113000
DTEND;TZID=Europe/Berlin:20261019T123000
DTSTAMP:20260423T201901
CREATED:20260409T141423Z
LAST-MODIFIED:20260409T141423Z
UID:10001675-1792409400-1792413000@www.brunnenviertel-brunnenstrasse.de
SUMMARY:Inklusionsberatung im Olof-Palme-Stadtteilzentrum
DESCRIPTION:Ab dem 13. April 2026 gibt es im Olof-Palme-Stadtteilzentrum jeden Montag von 11.30 bis 12.30 Uhr eine neue Inklusionsberatung. Inklusionsberaterin Jenny vom Verband für sozial-kulturelle Arbeit e.V. unterstützt Menschen mit Behinderungen oder chronischen Erkrankungen sowie ihre Angehörigen bei Fragen zu Teilhabe\, Unterstützungsmöglichkeiten und Angeboten im Kiez. \nDie Beratung ist kostenlos und persönlich. \nBeratung immer montags\, 11.30 bis 12.30 Uhr | Olof-Palme-Stadtteilzentrum\, Demminer Straße 28 | Mehr Informationen hier.
URL:https://www.brunnenviertel-brunnenstrasse.de/event/inklusionsberatung-im-olof-palme-stadtteilzentrum/2026-10-19/
END:VEVENT
BEGIN:VEVENT
DTSTART;TZID=Europe/Berlin:20261021T100000
DTEND;TZID=Europe/Berlin:20261021T120000
DTSTAMP:20260423T201901
CREATED:20241112T093449Z
LAST-MODIFIED:20241112T093449Z
UID:10000403-1792576800-1792584000@www.brunnenviertel-brunnenstrasse.de
SUMMARY:Stadtteilmütter im OPZ (Beratung für Frauen*)
DESCRIPTION:Frauen\, die Fragen zu den folgenden Themen haben\, sind mittwochs zwischen 10 und 12 Uhr im Olof-Palme-Stadtteilzentrum genau richtig: \n\nSozialberatung \n(Finanzielle Unterstützung\, Familien- und Erziehungsfragen\, Psychosoziale Unterstützung\, berufliche Orientierung\, Gesundheit\, Wohnrausuche u.v.m.)\nBeratung für Schwangere \n(Gesundheit & Ernährung\, Elternbildung\, rechtliche Aspekte\, Partner- und Familienberatung\, Hilfsangebote etc.)\nMigrationsberatung \n(Aufenthaltsrecht\, Integration\, Bildungs- und Ausbildungsmöglichkeiten\, soziale Leistungen\, Netzwerke und Kontakte)\nRechtsberatung \n(Asylrecht\, Hartz IV\, Unfälle\, Sorgerecht\, Rentenansprüche u.v.m.)\nMietberatung \n(Wohngeld\, Schlichtung von Konflikten\, Nebenkosten\, Mieterhöhung)\nAnerkennung von ausländischen Abschlüssen\, um die Gleichwertigkeit mit Deutschen\n\nWer sind die Stadtteilmütter? \nErfahrene und qualifizierte Ansprechpartnerinnern zu einer Vielzahl von Themen rund um Familie\, Sprachförderung\, Bildung und Integration. Sie bieten persönliche Gespräche an\, begleiten zu Beratungsstellen\, Fachdiensten\, Ämtern und anderen relevanten Einrichtungen. Außerdem sind sie gut vernetzt\, informieren zu Angeboten im Kiez und Fragen rund um Gesundheit und Erziehung. \nIm OPZ unterstützen uns Serap und Nissrine\, die an ihren roten Schals und Stadtteilmütter-Anhängern zu erkennen sind\, nun schon seit ein paar Wochen.\nAuf Türkisch\, Arabisch\, Englisch und Deutsch – auf Anfrage auch in anderen Sprachen von Albanisch bis Serbisch – bieten sie Angesicht zu Angesicht ein offenes Ohr und Rat\, stellen Brücken zu Hilf- und Unterstützungsangeboten her. Es ist der Anfang von Beratungsangeboten in unseren Räumlichkeiten\, welches wir stetig ausbauen wollen. Wenn ihr dazu also weitere Wünsche und Ideen habt\, kommt doch gern auf uns zu. \nJeden Mittwoch\, 10-12 Uhr im Olof-Palme-Stadtteilzentrum beim Frühstück für Frauen.\nKontakt: https://bethania.de/stadtteilmuetter-in-mitte \nHinweis: im Sprachförderzentrum Mitte\, Badstr. 10\, 13357 Berlin\, können sich Mo.-Mi. (10-13 Uhr) und Do. (10-15 Uhr) auch Männer zur Beratung melden.
URL:https://www.brunnenviertel-brunnenstrasse.de/event/stadtteilmuetter-im-opz-beratung-fuer-frauen/2026-10-21/
LOCATION:Olof-Palme-Stadtteilzentrum\, Demminer Straße 28\, Berlin\, 13355
END:VEVENT
BEGIN:VEVENT
DTSTART;TZID=Europe/Berlin:20261022T100000
DTEND;TZID=Europe/Berlin:20261022T113000
DTSTAMP:20260423T201901
CREATED:20241112T093958Z
LAST-MODIFIED:20241112T093958Z
UID:10000664-1792663200-1792668600@www.brunnenviertel-brunnenstrasse.de
SUMMARY:Sprachcafé im OPZ
DESCRIPTION:Für wen ist das Sprachcafé? \n\nfür Menschen\, die ihre Deutschkenntnisse verbessern wollen\n\n\nfür alle\, die neue Leute kennenlernen und sich austauschen möchten\n\nEgal\, ob mit oder ohne Sprachkenntnisse – komm einfach vorbei. Das Sprachcafé ist kostenlos. \nWann und wo? \n Jeden Donnerstag von 10:00 bis 11:30 Uhr\n „Olof Palme“ Stadtteilzentrum\, Demminer Str. 28\, 13355 Berlin\n Kinderbetreuung für die Kleinen ist vorhanden \nBringt gern Snacks mit. Kaffee und Tee gibt es vor Ort. \nÜber eine kleine Spende freuen wir uns! \nAnmeldung? \nKeine Anmeldung nötig! Komm einfach vorbei und mach mit. \nWarum mitmachen? \n\nüben in einer entspannten Atmosphäre\n\n\nfreundliche Gesprächspartner*innen und Muttersprachler*innen\n\n\nSpaß am Sprechen durch Spiele und Aktivitäten\n\n\ninterkultureller Austausch und neue Freundschaften\n\nWir freuen uns auf dich!
URL:https://www.brunnenviertel-brunnenstrasse.de/event/sprachcafe-im-opz/2026-10-22/
LOCATION:Olof-Palme-Stadtteilzentrum\, Demminer Straße 28\, Berlin\, 13355
END:VEVENT
BEGIN:VEVENT
DTSTART;TZID=Europe/Berlin:20261026T113000
DTEND;TZID=Europe/Berlin:20261026T123000
DTSTAMP:20260423T201901
CREATED:20260409T141423Z
LAST-MODIFIED:20260409T141423Z
UID:10001676-1793014200-1793017800@www.brunnenviertel-brunnenstrasse.de
SUMMARY:Inklusionsberatung im Olof-Palme-Stadtteilzentrum
DESCRIPTION:Ab dem 13. April 2026 gibt es im Olof-Palme-Stadtteilzentrum jeden Montag von 11.30 bis 12.30 Uhr eine neue Inklusionsberatung. Inklusionsberaterin Jenny vom Verband für sozial-kulturelle Arbeit e.V. unterstützt Menschen mit Behinderungen oder chronischen Erkrankungen sowie ihre Angehörigen bei Fragen zu Teilhabe\, Unterstützungsmöglichkeiten und Angeboten im Kiez. \nDie Beratung ist kostenlos und persönlich. \nBeratung immer montags\, 11.30 bis 12.30 Uhr | Olof-Palme-Stadtteilzentrum\, Demminer Straße 28 | Mehr Informationen hier.
URL:https://www.brunnenviertel-brunnenstrasse.de/event/inklusionsberatung-im-olof-palme-stadtteilzentrum/2026-10-26/
END:VEVENT
BEGIN:VEVENT
DTSTART;TZID=Europe/Berlin:20261026T170000
DTEND;TZID=Europe/Berlin:20261026T200000
DTSTAMP:20260423T201901
CREATED:20260119T123310Z
LAST-MODIFIED:20260119T123433Z
UID:10001558-1793034000-1793044800@www.brunnenviertel-brunnenstrasse.de
SUMMARY:Repaircafé Brunnenviertel
DESCRIPTION:Hast du einen kaputten Toaster zu Hause oder ein Bügeleisen\, was nicht mehr warm wird? Willst du ein Kabel löten oder einen neuen Schalter anbringen? Mit Unterstützung der Freiwilligen des Repaircafés kann dir das gelingen.\nEine Anmeldung ist keine Bedingung\, macht aber durchaus Sinn\, falls es viel Andrang gibt. \nAnmeldung über: repaircafe-brunnenviertel@mail.de
URL:https://www.brunnenviertel-brunnenstrasse.de/event/repaircafe-brunnenviertel-3/2026-10-26/
LOCATION:Olof-Palme-Stadtteilzentrum\, Demminer Straße 28\, Berlin\, 13355
ORGANIZER;CN="Repaircaf%C3%A9 Brunnenviertel":MAILTO:repaircafe-brunnenviertel@mail.de
END:VEVENT
BEGIN:VEVENT
DTSTART;TZID=Europe/Berlin:20261028T100000
DTEND;TZID=Europe/Berlin:20261028T120000
DTSTAMP:20260423T201901
CREATED:20241112T093449Z
LAST-MODIFIED:20241112T093449Z
UID:10000404-1793181600-1793188800@www.brunnenviertel-brunnenstrasse.de
SUMMARY:Stadtteilmütter im OPZ (Beratung für Frauen*)
DESCRIPTION:Frauen\, die Fragen zu den folgenden Themen haben\, sind mittwochs zwischen 10 und 12 Uhr im Olof-Palme-Stadtteilzentrum genau richtig: \n\nSozialberatung \n(Finanzielle Unterstützung\, Familien- und Erziehungsfragen\, Psychosoziale Unterstützung\, berufliche Orientierung\, Gesundheit\, Wohnrausuche u.v.m.)\nBeratung für Schwangere \n(Gesundheit & Ernährung\, Elternbildung\, rechtliche Aspekte\, Partner- und Familienberatung\, Hilfsangebote etc.)\nMigrationsberatung \n(Aufenthaltsrecht\, Integration\, Bildungs- und Ausbildungsmöglichkeiten\, soziale Leistungen\, Netzwerke und Kontakte)\nRechtsberatung \n(Asylrecht\, Hartz IV\, Unfälle\, Sorgerecht\, Rentenansprüche u.v.m.)\nMietberatung \n(Wohngeld\, Schlichtung von Konflikten\, Nebenkosten\, Mieterhöhung)\nAnerkennung von ausländischen Abschlüssen\, um die Gleichwertigkeit mit Deutschen\n\nWer sind die Stadtteilmütter? \nErfahrene und qualifizierte Ansprechpartnerinnern zu einer Vielzahl von Themen rund um Familie\, Sprachförderung\, Bildung und Integration. Sie bieten persönliche Gespräche an\, begleiten zu Beratungsstellen\, Fachdiensten\, Ämtern und anderen relevanten Einrichtungen. Außerdem sind sie gut vernetzt\, informieren zu Angeboten im Kiez und Fragen rund um Gesundheit und Erziehung. \nIm OPZ unterstützen uns Serap und Nissrine\, die an ihren roten Schals und Stadtteilmütter-Anhängern zu erkennen sind\, nun schon seit ein paar Wochen.\nAuf Türkisch\, Arabisch\, Englisch und Deutsch – auf Anfrage auch in anderen Sprachen von Albanisch bis Serbisch – bieten sie Angesicht zu Angesicht ein offenes Ohr und Rat\, stellen Brücken zu Hilf- und Unterstützungsangeboten her. Es ist der Anfang von Beratungsangeboten in unseren Räumlichkeiten\, welches wir stetig ausbauen wollen. Wenn ihr dazu also weitere Wünsche und Ideen habt\, kommt doch gern auf uns zu. \nJeden Mittwoch\, 10-12 Uhr im Olof-Palme-Stadtteilzentrum beim Frühstück für Frauen.\nKontakt: https://bethania.de/stadtteilmuetter-in-mitte \nHinweis: im Sprachförderzentrum Mitte\, Badstr. 10\, 13357 Berlin\, können sich Mo.-Mi. (10-13 Uhr) und Do. (10-15 Uhr) auch Männer zur Beratung melden.
URL:https://www.brunnenviertel-brunnenstrasse.de/event/stadtteilmuetter-im-opz-beratung-fuer-frauen/2026-10-28/
LOCATION:Olof-Palme-Stadtteilzentrum\, Demminer Straße 28\, Berlin\, 13355
END:VEVENT
BEGIN:VEVENT
DTSTART;TZID=Europe/Berlin:20261029T100000
DTEND;TZID=Europe/Berlin:20261029T113000
DTSTAMP:20260423T201901
CREATED:20241112T093958Z
LAST-MODIFIED:20241112T093958Z
UID:10000665-1793268000-1793273400@www.brunnenviertel-brunnenstrasse.de
SUMMARY:Sprachcafé im OPZ
DESCRIPTION:Für wen ist das Sprachcafé? \n\nfür Menschen\, die ihre Deutschkenntnisse verbessern wollen\n\n\nfür alle\, die neue Leute kennenlernen und sich austauschen möchten\n\nEgal\, ob mit oder ohne Sprachkenntnisse – komm einfach vorbei. Das Sprachcafé ist kostenlos. \nWann und wo? \n Jeden Donnerstag von 10:00 bis 11:30 Uhr\n „Olof Palme“ Stadtteilzentrum\, Demminer Str. 28\, 13355 Berlin\n Kinderbetreuung für die Kleinen ist vorhanden \nBringt gern Snacks mit. Kaffee und Tee gibt es vor Ort. \nÜber eine kleine Spende freuen wir uns! \nAnmeldung? \nKeine Anmeldung nötig! Komm einfach vorbei und mach mit. \nWarum mitmachen? \n\nüben in einer entspannten Atmosphäre\n\n\nfreundliche Gesprächspartner*innen und Muttersprachler*innen\n\n\nSpaß am Sprechen durch Spiele und Aktivitäten\n\n\ninterkultureller Austausch und neue Freundschaften\n\nWir freuen uns auf dich!
URL:https://www.brunnenviertel-brunnenstrasse.de/event/sprachcafe-im-opz/2026-10-29/
LOCATION:Olof-Palme-Stadtteilzentrum\, Demminer Straße 28\, Berlin\, 13355
END:VEVENT
END:VCALENDAR