BEGIN:VCALENDAR
VERSION:2.0
PRODID:-//QM Brunnenstraße - ECPv6.15.20//NONSGML v1.0//EN
CALSCALE:GREGORIAN
METHOD:PUBLISH
X-ORIGINAL-URL:https://www.brunnenviertel-brunnenstrasse.de
X-WR-CALDESC:Veranstaltungen für QM Brunnenstraße
REFRESH-INTERVAL;VALUE=DURATION:PT1H
X-Robots-Tag:noindex
X-PUBLISHED-TTL:PT1H
BEGIN:VTIMEZONE
TZID:Europe/Berlin
BEGIN:DAYLIGHT
TZOFFSETFROM:+0100
TZOFFSETTO:+0200
TZNAME:CEST
DTSTART:20250330T010000
END:DAYLIGHT
BEGIN:STANDARD
TZOFFSETFROM:+0200
TZOFFSETTO:+0100
TZNAME:CET
DTSTART:20251026T010000
END:STANDARD
BEGIN:DAYLIGHT
TZOFFSETFROM:+0100
TZOFFSETTO:+0200
TZNAME:CEST
DTSTART:20260329T010000
END:DAYLIGHT
BEGIN:STANDARD
TZOFFSETFROM:+0200
TZOFFSETTO:+0100
TZNAME:CET
DTSTART:20261025T010000
END:STANDARD
BEGIN:DAYLIGHT
TZOFFSETFROM:+0100
TZOFFSETTO:+0200
TZNAME:CEST
DTSTART:20270328T010000
END:DAYLIGHT
BEGIN:STANDARD
TZOFFSETFROM:+0200
TZOFFSETTO:+0100
TZNAME:CET
DTSTART:20271031T010000
END:STANDARD
END:VTIMEZONE
BEGIN:VEVENT
DTSTART;TZID=Europe/Berlin:20260901T170000
DTEND;TZID=Europe/Berlin:20260901T183000
DTSTAMP:20260423T183638
CREATED:20250423T141339Z
LAST-MODIFIED:20260218T122940Z
UID:10001314-1788282000-1788287400@www.brunnenviertel-brunnenstrasse.de
SUMMARY:3. Aktionsfondsjury-Sitzung in 2026
DESCRIPTION:am 01. September trifft sich die Aktionsfondsjury zum dritten Mal im Jahr 2026 um über die eingegangenen Anträge im Aktionsfonds abzustimmen. \nAnträge können bis 18. August beim Quartiersmanagement eingereicht werden. \nMehr Infos zum Aktionsfonds HIER. \nWenden Sie sich bei Fragen gerne per Mail an das Quartiersmanagement.
URL:https://www.brunnenviertel-brunnenstrasse.de/event/3-aktionsfondsjury-sitzung-in-2025/
END:VEVENT
BEGIN:VEVENT
DTSTART;TZID=Europe/Berlin:20260902T100000
DTEND;TZID=Europe/Berlin:20260902T120000
DTSTAMP:20260423T183638
CREATED:20241112T093449Z
LAST-MODIFIED:20241112T093449Z
UID:10000396-1788343200-1788350400@www.brunnenviertel-brunnenstrasse.de
SUMMARY:Stadtteilmütter im OPZ (Beratung für Frauen*)
DESCRIPTION:Frauen\, die Fragen zu den folgenden Themen haben\, sind mittwochs zwischen 10 und 12 Uhr im Olof-Palme-Stadtteilzentrum genau richtig: \n\nSozialberatung \n(Finanzielle Unterstützung\, Familien- und Erziehungsfragen\, Psychosoziale Unterstützung\, berufliche Orientierung\, Gesundheit\, Wohnrausuche u.v.m.)\nBeratung für Schwangere \n(Gesundheit & Ernährung\, Elternbildung\, rechtliche Aspekte\, Partner- und Familienberatung\, Hilfsangebote etc.)\nMigrationsberatung \n(Aufenthaltsrecht\, Integration\, Bildungs- und Ausbildungsmöglichkeiten\, soziale Leistungen\, Netzwerke und Kontakte)\nRechtsberatung \n(Asylrecht\, Hartz IV\, Unfälle\, Sorgerecht\, Rentenansprüche u.v.m.)\nMietberatung \n(Wohngeld\, Schlichtung von Konflikten\, Nebenkosten\, Mieterhöhung)\nAnerkennung von ausländischen Abschlüssen\, um die Gleichwertigkeit mit Deutschen\n\nWer sind die Stadtteilmütter? \nErfahrene und qualifizierte Ansprechpartnerinnern zu einer Vielzahl von Themen rund um Familie\, Sprachförderung\, Bildung und Integration. Sie bieten persönliche Gespräche an\, begleiten zu Beratungsstellen\, Fachdiensten\, Ämtern und anderen relevanten Einrichtungen. Außerdem sind sie gut vernetzt\, informieren zu Angeboten im Kiez und Fragen rund um Gesundheit und Erziehung. \nIm OPZ unterstützen uns Serap und Nissrine\, die an ihren roten Schals und Stadtteilmütter-Anhängern zu erkennen sind\, nun schon seit ein paar Wochen.\nAuf Türkisch\, Arabisch\, Englisch und Deutsch – auf Anfrage auch in anderen Sprachen von Albanisch bis Serbisch – bieten sie Angesicht zu Angesicht ein offenes Ohr und Rat\, stellen Brücken zu Hilf- und Unterstützungsangeboten her. Es ist der Anfang von Beratungsangeboten in unseren Räumlichkeiten\, welches wir stetig ausbauen wollen. Wenn ihr dazu also weitere Wünsche und Ideen habt\, kommt doch gern auf uns zu. \nJeden Mittwoch\, 10-12 Uhr im Olof-Palme-Stadtteilzentrum beim Frühstück für Frauen.\nKontakt: https://bethania.de/stadtteilmuetter-in-mitte \nHinweis: im Sprachförderzentrum Mitte\, Badstr. 10\, 13357 Berlin\, können sich Mo.-Mi. (10-13 Uhr) und Do. (10-15 Uhr) auch Männer zur Beratung melden.
URL:https://www.brunnenviertel-brunnenstrasse.de/event/stadtteilmuetter-im-opz-beratung-fuer-frauen/2026-09-02/
LOCATION:Olof-Palme-Stadtteilzentrum\, Demminer Straße 28\, Berlin\, 13355
END:VEVENT
BEGIN:VEVENT
DTSTART;TZID=Europe/Berlin:20260903T100000
DTEND;TZID=Europe/Berlin:20260903T113000
DTSTAMP:20260423T183639
CREATED:20241112T093958Z
LAST-MODIFIED:20241112T093958Z
UID:10000657-1788429600-1788435000@www.brunnenviertel-brunnenstrasse.de
SUMMARY:Sprachcafé im OPZ
DESCRIPTION:Für wen ist das Sprachcafé? \n\nfür Menschen\, die ihre Deutschkenntnisse verbessern wollen\n\n\nfür alle\, die neue Leute kennenlernen und sich austauschen möchten\n\nEgal\, ob mit oder ohne Sprachkenntnisse – komm einfach vorbei. Das Sprachcafé ist kostenlos. \nWann und wo? \n Jeden Donnerstag von 10:00 bis 11:30 Uhr\n „Olof Palme“ Stadtteilzentrum\, Demminer Str. 28\, 13355 Berlin\n Kinderbetreuung für die Kleinen ist vorhanden \nBringt gern Snacks mit. Kaffee und Tee gibt es vor Ort. \nÜber eine kleine Spende freuen wir uns! \nAnmeldung? \nKeine Anmeldung nötig! Komm einfach vorbei und mach mit. \nWarum mitmachen? \n\nüben in einer entspannten Atmosphäre\n\n\nfreundliche Gesprächspartner*innen und Muttersprachler*innen\n\n\nSpaß am Sprechen durch Spiele und Aktivitäten\n\n\ninterkultureller Austausch und neue Freundschaften\n\nWir freuen uns auf dich!
URL:https://www.brunnenviertel-brunnenstrasse.de/event/sprachcafe-im-opz/2026-09-03/
LOCATION:Olof-Palme-Stadtteilzentrum\, Demminer Straße 28\, Berlin\, 13355
END:VEVENT
BEGIN:VEVENT
DTSTART;TZID=Europe/Berlin:20260906T143000
DTEND;TZID=Europe/Berlin:20260906T163000
DTSTAMP:20260423T183639
CREATED:20260409T135227Z
LAST-MODIFIED:20260409T141556Z
UID:10001586-1788705000-1788712200@www.brunnenviertel-brunnenstrasse.de
SUMMARY:Familiensonntag mit Zirkusprogramm im OPZ
DESCRIPTION:Ab dem 19. April 2026 heißt es wieder: Familiensonntag im Brunnenviertel – diesmal mit Zirkusprogramm von Corragio! Jeden Sonntag von 14.30-16.30 Uhr können Kinder bis 10 Jahre gemeinsam mit ihren Eltern spannende Zirkusaktionen erleben. Das Angebot ist kostenlos und eine Anmeldung ist nicht erforderlich. \n  \nMehr Informationen hier.
URL:https://www.brunnenviertel-brunnenstrasse.de/event/familiensonntag-mit-zirkusprogramm-im-opz/2026-09-06/
END:VEVENT
BEGIN:VEVENT
DTSTART;TZID=Europe/Berlin:20260907T113000
DTEND;TZID=Europe/Berlin:20260907T123000
DTSTAMP:20260423T183639
CREATED:20260409T141423Z
LAST-MODIFIED:20260409T141423Z
UID:10001669-1788780600-1788784200@www.brunnenviertel-brunnenstrasse.de
SUMMARY:Inklusionsberatung im Olof-Palme-Stadtteilzentrum
DESCRIPTION:Ab dem 13. April 2026 gibt es im Olof-Palme-Stadtteilzentrum jeden Montag von 11.30 bis 12.30 Uhr eine neue Inklusionsberatung. Inklusionsberaterin Jenny vom Verband für sozial-kulturelle Arbeit e.V. unterstützt Menschen mit Behinderungen oder chronischen Erkrankungen sowie ihre Angehörigen bei Fragen zu Teilhabe\, Unterstützungsmöglichkeiten und Angeboten im Kiez. \nDie Beratung ist kostenlos und persönlich. \nBeratung immer montags\, 11.30 bis 12.30 Uhr | Olof-Palme-Stadtteilzentrum\, Demminer Straße 28 | Mehr Informationen hier.
URL:https://www.brunnenviertel-brunnenstrasse.de/event/inklusionsberatung-im-olof-palme-stadtteilzentrum/2026-09-07/
END:VEVENT
BEGIN:VEVENT
DTSTART;TZID=Europe/Berlin:20260909T100000
DTEND;TZID=Europe/Berlin:20260909T120000
DTSTAMP:20260423T183639
CREATED:20241112T093449Z
LAST-MODIFIED:20241112T093449Z
UID:10000397-1788948000-1788955200@www.brunnenviertel-brunnenstrasse.de
SUMMARY:Stadtteilmütter im OPZ (Beratung für Frauen*)
DESCRIPTION:Frauen\, die Fragen zu den folgenden Themen haben\, sind mittwochs zwischen 10 und 12 Uhr im Olof-Palme-Stadtteilzentrum genau richtig: \n\nSozialberatung \n(Finanzielle Unterstützung\, Familien- und Erziehungsfragen\, Psychosoziale Unterstützung\, berufliche Orientierung\, Gesundheit\, Wohnrausuche u.v.m.)\nBeratung für Schwangere \n(Gesundheit & Ernährung\, Elternbildung\, rechtliche Aspekte\, Partner- und Familienberatung\, Hilfsangebote etc.)\nMigrationsberatung \n(Aufenthaltsrecht\, Integration\, Bildungs- und Ausbildungsmöglichkeiten\, soziale Leistungen\, Netzwerke und Kontakte)\nRechtsberatung \n(Asylrecht\, Hartz IV\, Unfälle\, Sorgerecht\, Rentenansprüche u.v.m.)\nMietberatung \n(Wohngeld\, Schlichtung von Konflikten\, Nebenkosten\, Mieterhöhung)\nAnerkennung von ausländischen Abschlüssen\, um die Gleichwertigkeit mit Deutschen\n\nWer sind die Stadtteilmütter? \nErfahrene und qualifizierte Ansprechpartnerinnern zu einer Vielzahl von Themen rund um Familie\, Sprachförderung\, Bildung und Integration. Sie bieten persönliche Gespräche an\, begleiten zu Beratungsstellen\, Fachdiensten\, Ämtern und anderen relevanten Einrichtungen. Außerdem sind sie gut vernetzt\, informieren zu Angeboten im Kiez und Fragen rund um Gesundheit und Erziehung. \nIm OPZ unterstützen uns Serap und Nissrine\, die an ihren roten Schals und Stadtteilmütter-Anhängern zu erkennen sind\, nun schon seit ein paar Wochen.\nAuf Türkisch\, Arabisch\, Englisch und Deutsch – auf Anfrage auch in anderen Sprachen von Albanisch bis Serbisch – bieten sie Angesicht zu Angesicht ein offenes Ohr und Rat\, stellen Brücken zu Hilf- und Unterstützungsangeboten her. Es ist der Anfang von Beratungsangeboten in unseren Räumlichkeiten\, welches wir stetig ausbauen wollen. Wenn ihr dazu also weitere Wünsche und Ideen habt\, kommt doch gern auf uns zu. \nJeden Mittwoch\, 10-12 Uhr im Olof-Palme-Stadtteilzentrum beim Frühstück für Frauen.\nKontakt: https://bethania.de/stadtteilmuetter-in-mitte \nHinweis: im Sprachförderzentrum Mitte\, Badstr. 10\, 13357 Berlin\, können sich Mo.-Mi. (10-13 Uhr) und Do. (10-15 Uhr) auch Männer zur Beratung melden.
URL:https://www.brunnenviertel-brunnenstrasse.de/event/stadtteilmuetter-im-opz-beratung-fuer-frauen/2026-09-09/
LOCATION:Olof-Palme-Stadtteilzentrum\, Demminer Straße 28\, Berlin\, 13355
END:VEVENT
BEGIN:VEVENT
DTSTART;TZID=Europe/Berlin:20260910T100000
DTEND;TZID=Europe/Berlin:20260910T113000
DTSTAMP:20260423T183639
CREATED:20241112T093958Z
LAST-MODIFIED:20241112T093958Z
UID:10000658-1789034400-1789039800@www.brunnenviertel-brunnenstrasse.de
SUMMARY:Sprachcafé im OPZ
DESCRIPTION:Für wen ist das Sprachcafé? \n\nfür Menschen\, die ihre Deutschkenntnisse verbessern wollen\n\n\nfür alle\, die neue Leute kennenlernen und sich austauschen möchten\n\nEgal\, ob mit oder ohne Sprachkenntnisse – komm einfach vorbei. Das Sprachcafé ist kostenlos. \nWann und wo? \n Jeden Donnerstag von 10:00 bis 11:30 Uhr\n „Olof Palme“ Stadtteilzentrum\, Demminer Str. 28\, 13355 Berlin\n Kinderbetreuung für die Kleinen ist vorhanden \nBringt gern Snacks mit. Kaffee und Tee gibt es vor Ort. \nÜber eine kleine Spende freuen wir uns! \nAnmeldung? \nKeine Anmeldung nötig! Komm einfach vorbei und mach mit. \nWarum mitmachen? \n\nüben in einer entspannten Atmosphäre\n\n\nfreundliche Gesprächspartner*innen und Muttersprachler*innen\n\n\nSpaß am Sprechen durch Spiele und Aktivitäten\n\n\ninterkultureller Austausch und neue Freundschaften\n\nWir freuen uns auf dich!
URL:https://www.brunnenviertel-brunnenstrasse.de/event/sprachcafe-im-opz/2026-09-10/
LOCATION:Olof-Palme-Stadtteilzentrum\, Demminer Straße 28\, Berlin\, 13355
END:VEVENT
BEGIN:VEVENT
DTSTART;TZID=Europe/Berlin:20260913T143000
DTEND;TZID=Europe/Berlin:20260913T163000
DTSTAMP:20260423T183639
CREATED:20260409T135227Z
LAST-MODIFIED:20260409T141556Z
UID:10001587-1789309800-1789317000@www.brunnenviertel-brunnenstrasse.de
SUMMARY:Familiensonntag mit Zirkusprogramm im OPZ
DESCRIPTION:Ab dem 19. April 2026 heißt es wieder: Familiensonntag im Brunnenviertel – diesmal mit Zirkusprogramm von Corragio! Jeden Sonntag von 14.30-16.30 Uhr können Kinder bis 10 Jahre gemeinsam mit ihren Eltern spannende Zirkusaktionen erleben. Das Angebot ist kostenlos und eine Anmeldung ist nicht erforderlich. \n  \nMehr Informationen hier.
URL:https://www.brunnenviertel-brunnenstrasse.de/event/familiensonntag-mit-zirkusprogramm-im-opz/2026-09-13/
END:VEVENT
BEGIN:VEVENT
DTSTART;TZID=Europe/Berlin:20260914T113000
DTEND;TZID=Europe/Berlin:20260914T123000
DTSTAMP:20260423T183639
CREATED:20260409T141423Z
LAST-MODIFIED:20260409T141423Z
UID:10001670-1789385400-1789389000@www.brunnenviertel-brunnenstrasse.de
SUMMARY:Inklusionsberatung im Olof-Palme-Stadtteilzentrum
DESCRIPTION:Ab dem 13. April 2026 gibt es im Olof-Palme-Stadtteilzentrum jeden Montag von 11.30 bis 12.30 Uhr eine neue Inklusionsberatung. Inklusionsberaterin Jenny vom Verband für sozial-kulturelle Arbeit e.V. unterstützt Menschen mit Behinderungen oder chronischen Erkrankungen sowie ihre Angehörigen bei Fragen zu Teilhabe\, Unterstützungsmöglichkeiten und Angeboten im Kiez. \nDie Beratung ist kostenlos und persönlich. \nBeratung immer montags\, 11.30 bis 12.30 Uhr | Olof-Palme-Stadtteilzentrum\, Demminer Straße 28 | Mehr Informationen hier.
URL:https://www.brunnenviertel-brunnenstrasse.de/event/inklusionsberatung-im-olof-palme-stadtteilzentrum/2026-09-14/
END:VEVENT
BEGIN:VEVENT
DTSTART;TZID=Europe/Berlin:20260916T100000
DTEND;TZID=Europe/Berlin:20260916T120000
DTSTAMP:20260423T183639
CREATED:20241112T093449Z
LAST-MODIFIED:20241112T093449Z
UID:10000398-1789552800-1789560000@www.brunnenviertel-brunnenstrasse.de
SUMMARY:Stadtteilmütter im OPZ (Beratung für Frauen*)
DESCRIPTION:Frauen\, die Fragen zu den folgenden Themen haben\, sind mittwochs zwischen 10 und 12 Uhr im Olof-Palme-Stadtteilzentrum genau richtig: \n\nSozialberatung \n(Finanzielle Unterstützung\, Familien- und Erziehungsfragen\, Psychosoziale Unterstützung\, berufliche Orientierung\, Gesundheit\, Wohnrausuche u.v.m.)\nBeratung für Schwangere \n(Gesundheit & Ernährung\, Elternbildung\, rechtliche Aspekte\, Partner- und Familienberatung\, Hilfsangebote etc.)\nMigrationsberatung \n(Aufenthaltsrecht\, Integration\, Bildungs- und Ausbildungsmöglichkeiten\, soziale Leistungen\, Netzwerke und Kontakte)\nRechtsberatung \n(Asylrecht\, Hartz IV\, Unfälle\, Sorgerecht\, Rentenansprüche u.v.m.)\nMietberatung \n(Wohngeld\, Schlichtung von Konflikten\, Nebenkosten\, Mieterhöhung)\nAnerkennung von ausländischen Abschlüssen\, um die Gleichwertigkeit mit Deutschen\n\nWer sind die Stadtteilmütter? \nErfahrene und qualifizierte Ansprechpartnerinnern zu einer Vielzahl von Themen rund um Familie\, Sprachförderung\, Bildung und Integration. Sie bieten persönliche Gespräche an\, begleiten zu Beratungsstellen\, Fachdiensten\, Ämtern und anderen relevanten Einrichtungen. Außerdem sind sie gut vernetzt\, informieren zu Angeboten im Kiez und Fragen rund um Gesundheit und Erziehung. \nIm OPZ unterstützen uns Serap und Nissrine\, die an ihren roten Schals und Stadtteilmütter-Anhängern zu erkennen sind\, nun schon seit ein paar Wochen.\nAuf Türkisch\, Arabisch\, Englisch und Deutsch – auf Anfrage auch in anderen Sprachen von Albanisch bis Serbisch – bieten sie Angesicht zu Angesicht ein offenes Ohr und Rat\, stellen Brücken zu Hilf- und Unterstützungsangeboten her. Es ist der Anfang von Beratungsangeboten in unseren Räumlichkeiten\, welches wir stetig ausbauen wollen. Wenn ihr dazu also weitere Wünsche und Ideen habt\, kommt doch gern auf uns zu. \nJeden Mittwoch\, 10-12 Uhr im Olof-Palme-Stadtteilzentrum beim Frühstück für Frauen.\nKontakt: https://bethania.de/stadtteilmuetter-in-mitte \nHinweis: im Sprachförderzentrum Mitte\, Badstr. 10\, 13357 Berlin\, können sich Mo.-Mi. (10-13 Uhr) und Do. (10-15 Uhr) auch Männer zur Beratung melden.
URL:https://www.brunnenviertel-brunnenstrasse.de/event/stadtteilmuetter-im-opz-beratung-fuer-frauen/2026-09-16/
LOCATION:Olof-Palme-Stadtteilzentrum\, Demminer Straße 28\, Berlin\, 13355
END:VEVENT
BEGIN:VEVENT
DTSTART;TZID=Europe/Berlin:20260917T100000
DTEND;TZID=Europe/Berlin:20260917T113000
DTSTAMP:20260423T183639
CREATED:20241112T093958Z
LAST-MODIFIED:20241112T093958Z
UID:10000659-1789639200-1789644600@www.brunnenviertel-brunnenstrasse.de
SUMMARY:Sprachcafé im OPZ
DESCRIPTION:Für wen ist das Sprachcafé? \n\nfür Menschen\, die ihre Deutschkenntnisse verbessern wollen\n\n\nfür alle\, die neue Leute kennenlernen und sich austauschen möchten\n\nEgal\, ob mit oder ohne Sprachkenntnisse – komm einfach vorbei. Das Sprachcafé ist kostenlos. \nWann und wo? \n Jeden Donnerstag von 10:00 bis 11:30 Uhr\n „Olof Palme“ Stadtteilzentrum\, Demminer Str. 28\, 13355 Berlin\n Kinderbetreuung für die Kleinen ist vorhanden \nBringt gern Snacks mit. Kaffee und Tee gibt es vor Ort. \nÜber eine kleine Spende freuen wir uns! \nAnmeldung? \nKeine Anmeldung nötig! Komm einfach vorbei und mach mit. \nWarum mitmachen? \n\nüben in einer entspannten Atmosphäre\n\n\nfreundliche Gesprächspartner*innen und Muttersprachler*innen\n\n\nSpaß am Sprechen durch Spiele und Aktivitäten\n\n\ninterkultureller Austausch und neue Freundschaften\n\nWir freuen uns auf dich!
URL:https://www.brunnenviertel-brunnenstrasse.de/event/sprachcafe-im-opz/2026-09-17/
LOCATION:Olof-Palme-Stadtteilzentrum\, Demminer Straße 28\, Berlin\, 13355
END:VEVENT
BEGIN:VEVENT
DTSTART;TZID=Europe/Berlin:20260917T183000
DTEND;TZID=Europe/Berlin:20260917T203000
DTSTAMP:20260423T183639
CREATED:20260106T102025Z
LAST-MODIFIED:20260106T102257Z
UID:10001529-1789669800-1789677000@www.brunnenviertel-brunnenstrasse.de
SUMMARY:Handarbeitstreff in der Waschküche
DESCRIPTION:Handarbeitstreff\nam Donnerstag\, 15.1.2026\, 18:30 – 20:30 Uhr (jeden 3. Donnerstag im Monat) im Nachbarschaftsraum Waschküche\, Feldstraße 10\, 13355 Berlin \nHast Du Lust\, gemeinsam kreativ zu werden? Ob nähen\, stricken\, häkeln\, basteln oder andere Handarbeiten\, beim Handarbeitstreff sind alle willkommen! \nJana bringt ihre Nähmaschine mit\, vor Ort gibt es noch ein paar weitere. Du kannst dein eigenes Projekt mitbringen oder dich inspirieren lassen. Es geht um Gemeinschaft\, Austausch und Freude am Selbermachen. \nFür Tee\, Kaffee und gute Stimmung ist gesorgt. Komm vorbei\, bring dein Handarbeitszeug mit und mach mit – gemeinsam macht’s einfach mehr Spaß! \nVoranmeldung für Nähen mit der Maschine: jana.ammerschuber@gmail.com \nhttps://waschkueche-brunnenviertel.de/handarbeitstreff/
URL:https://www.brunnenviertel-brunnenstrasse.de/event/handarbeitstreff-in-der-waschkueche/2026-09-17/
LOCATION:Waschküche\, Feldstraße 10\, Berlin\, 13355
END:VEVENT
BEGIN:VEVENT
DTSTART;TZID=Europe/Berlin:20260920T143000
DTEND;TZID=Europe/Berlin:20260920T163000
DTSTAMP:20260423T183639
CREATED:20260409T135227Z
LAST-MODIFIED:20260409T141556Z
UID:10001588-1789914600-1789921800@www.brunnenviertel-brunnenstrasse.de
SUMMARY:Familiensonntag mit Zirkusprogramm im OPZ
DESCRIPTION:Ab dem 19. April 2026 heißt es wieder: Familiensonntag im Brunnenviertel – diesmal mit Zirkusprogramm von Corragio! Jeden Sonntag von 14.30-16.30 Uhr können Kinder bis 10 Jahre gemeinsam mit ihren Eltern spannende Zirkusaktionen erleben. Das Angebot ist kostenlos und eine Anmeldung ist nicht erforderlich. \n  \nMehr Informationen hier.
URL:https://www.brunnenviertel-brunnenstrasse.de/event/familiensonntag-mit-zirkusprogramm-im-opz/2026-09-20/
END:VEVENT
BEGIN:VEVENT
DTSTART;TZID=Europe/Berlin:20260921T113000
DTEND;TZID=Europe/Berlin:20260921T123000
DTSTAMP:20260423T183639
CREATED:20260409T141423Z
LAST-MODIFIED:20260409T141423Z
UID:10001671-1789990200-1789993800@www.brunnenviertel-brunnenstrasse.de
SUMMARY:Inklusionsberatung im Olof-Palme-Stadtteilzentrum
DESCRIPTION:Ab dem 13. April 2026 gibt es im Olof-Palme-Stadtteilzentrum jeden Montag von 11.30 bis 12.30 Uhr eine neue Inklusionsberatung. Inklusionsberaterin Jenny vom Verband für sozial-kulturelle Arbeit e.V. unterstützt Menschen mit Behinderungen oder chronischen Erkrankungen sowie ihre Angehörigen bei Fragen zu Teilhabe\, Unterstützungsmöglichkeiten und Angeboten im Kiez. \nDie Beratung ist kostenlos und persönlich. \nBeratung immer montags\, 11.30 bis 12.30 Uhr | Olof-Palme-Stadtteilzentrum\, Demminer Straße 28 | Mehr Informationen hier.
URL:https://www.brunnenviertel-brunnenstrasse.de/event/inklusionsberatung-im-olof-palme-stadtteilzentrum/2026-09-21/
END:VEVENT
BEGIN:VEVENT
DTSTART;TZID=Europe/Berlin:20260923T100000
DTEND;TZID=Europe/Berlin:20260923T120000
DTSTAMP:20260423T183639
CREATED:20241112T093449Z
LAST-MODIFIED:20241112T093449Z
UID:10000399-1790157600-1790164800@www.brunnenviertel-brunnenstrasse.de
SUMMARY:Stadtteilmütter im OPZ (Beratung für Frauen*)
DESCRIPTION:Frauen\, die Fragen zu den folgenden Themen haben\, sind mittwochs zwischen 10 und 12 Uhr im Olof-Palme-Stadtteilzentrum genau richtig: \n\nSozialberatung \n(Finanzielle Unterstützung\, Familien- und Erziehungsfragen\, Psychosoziale Unterstützung\, berufliche Orientierung\, Gesundheit\, Wohnrausuche u.v.m.)\nBeratung für Schwangere \n(Gesundheit & Ernährung\, Elternbildung\, rechtliche Aspekte\, Partner- und Familienberatung\, Hilfsangebote etc.)\nMigrationsberatung \n(Aufenthaltsrecht\, Integration\, Bildungs- und Ausbildungsmöglichkeiten\, soziale Leistungen\, Netzwerke und Kontakte)\nRechtsberatung \n(Asylrecht\, Hartz IV\, Unfälle\, Sorgerecht\, Rentenansprüche u.v.m.)\nMietberatung \n(Wohngeld\, Schlichtung von Konflikten\, Nebenkosten\, Mieterhöhung)\nAnerkennung von ausländischen Abschlüssen\, um die Gleichwertigkeit mit Deutschen\n\nWer sind die Stadtteilmütter? \nErfahrene und qualifizierte Ansprechpartnerinnern zu einer Vielzahl von Themen rund um Familie\, Sprachförderung\, Bildung und Integration. Sie bieten persönliche Gespräche an\, begleiten zu Beratungsstellen\, Fachdiensten\, Ämtern und anderen relevanten Einrichtungen. Außerdem sind sie gut vernetzt\, informieren zu Angeboten im Kiez und Fragen rund um Gesundheit und Erziehung. \nIm OPZ unterstützen uns Serap und Nissrine\, die an ihren roten Schals und Stadtteilmütter-Anhängern zu erkennen sind\, nun schon seit ein paar Wochen.\nAuf Türkisch\, Arabisch\, Englisch und Deutsch – auf Anfrage auch in anderen Sprachen von Albanisch bis Serbisch – bieten sie Angesicht zu Angesicht ein offenes Ohr und Rat\, stellen Brücken zu Hilf- und Unterstützungsangeboten her. Es ist der Anfang von Beratungsangeboten in unseren Räumlichkeiten\, welches wir stetig ausbauen wollen. Wenn ihr dazu also weitere Wünsche und Ideen habt\, kommt doch gern auf uns zu. \nJeden Mittwoch\, 10-12 Uhr im Olof-Palme-Stadtteilzentrum beim Frühstück für Frauen.\nKontakt: https://bethania.de/stadtteilmuetter-in-mitte \nHinweis: im Sprachförderzentrum Mitte\, Badstr. 10\, 13357 Berlin\, können sich Mo.-Mi. (10-13 Uhr) und Do. (10-15 Uhr) auch Männer zur Beratung melden.
URL:https://www.brunnenviertel-brunnenstrasse.de/event/stadtteilmuetter-im-opz-beratung-fuer-frauen/2026-09-23/
LOCATION:Olof-Palme-Stadtteilzentrum\, Demminer Straße 28\, Berlin\, 13355
END:VEVENT
BEGIN:VEVENT
DTSTART;TZID=Europe/Berlin:20260924T100000
DTEND;TZID=Europe/Berlin:20260924T113000
DTSTAMP:20260423T183639
CREATED:20241112T093958Z
LAST-MODIFIED:20241112T093958Z
UID:10000660-1790244000-1790249400@www.brunnenviertel-brunnenstrasse.de
SUMMARY:Sprachcafé im OPZ
DESCRIPTION:Für wen ist das Sprachcafé? \n\nfür Menschen\, die ihre Deutschkenntnisse verbessern wollen\n\n\nfür alle\, die neue Leute kennenlernen und sich austauschen möchten\n\nEgal\, ob mit oder ohne Sprachkenntnisse – komm einfach vorbei. Das Sprachcafé ist kostenlos. \nWann und wo? \n Jeden Donnerstag von 10:00 bis 11:30 Uhr\n „Olof Palme“ Stadtteilzentrum\, Demminer Str. 28\, 13355 Berlin\n Kinderbetreuung für die Kleinen ist vorhanden \nBringt gern Snacks mit. Kaffee und Tee gibt es vor Ort. \nÜber eine kleine Spende freuen wir uns! \nAnmeldung? \nKeine Anmeldung nötig! Komm einfach vorbei und mach mit. \nWarum mitmachen? \n\nüben in einer entspannten Atmosphäre\n\n\nfreundliche Gesprächspartner*innen und Muttersprachler*innen\n\n\nSpaß am Sprechen durch Spiele und Aktivitäten\n\n\ninterkultureller Austausch und neue Freundschaften\n\nWir freuen uns auf dich!
URL:https://www.brunnenviertel-brunnenstrasse.de/event/sprachcafe-im-opz/2026-09-24/
LOCATION:Olof-Palme-Stadtteilzentrum\, Demminer Straße 28\, Berlin\, 13355
END:VEVENT
BEGIN:VEVENT
DTSTART;TZID=Europe/Berlin:20260927T143000
DTEND;TZID=Europe/Berlin:20260927T163000
DTSTAMP:20260423T183639
CREATED:20260409T135227Z
LAST-MODIFIED:20260409T141556Z
UID:10001589-1790519400-1790526600@www.brunnenviertel-brunnenstrasse.de
SUMMARY:Familiensonntag mit Zirkusprogramm im OPZ
DESCRIPTION:Ab dem 19. April 2026 heißt es wieder: Familiensonntag im Brunnenviertel – diesmal mit Zirkusprogramm von Corragio! Jeden Sonntag von 14.30-16.30 Uhr können Kinder bis 10 Jahre gemeinsam mit ihren Eltern spannende Zirkusaktionen erleben. Das Angebot ist kostenlos und eine Anmeldung ist nicht erforderlich. \n  \nMehr Informationen hier.
URL:https://www.brunnenviertel-brunnenstrasse.de/event/familiensonntag-mit-zirkusprogramm-im-opz/2026-09-27/
END:VEVENT
BEGIN:VEVENT
DTSTART;TZID=Europe/Berlin:20260928T113000
DTEND;TZID=Europe/Berlin:20260928T123000
DTSTAMP:20260423T183639
CREATED:20260409T141423Z
LAST-MODIFIED:20260409T141423Z
UID:10001672-1790595000-1790598600@www.brunnenviertel-brunnenstrasse.de
SUMMARY:Inklusionsberatung im Olof-Palme-Stadtteilzentrum
DESCRIPTION:Ab dem 13. April 2026 gibt es im Olof-Palme-Stadtteilzentrum jeden Montag von 11.30 bis 12.30 Uhr eine neue Inklusionsberatung. Inklusionsberaterin Jenny vom Verband für sozial-kulturelle Arbeit e.V. unterstützt Menschen mit Behinderungen oder chronischen Erkrankungen sowie ihre Angehörigen bei Fragen zu Teilhabe\, Unterstützungsmöglichkeiten und Angeboten im Kiez. \nDie Beratung ist kostenlos und persönlich. \nBeratung immer montags\, 11.30 bis 12.30 Uhr | Olof-Palme-Stadtteilzentrum\, Demminer Straße 28 | Mehr Informationen hier.
URL:https://www.brunnenviertel-brunnenstrasse.de/event/inklusionsberatung-im-olof-palme-stadtteilzentrum/2026-09-28/
END:VEVENT
BEGIN:VEVENT
DTSTART;TZID=Europe/Berlin:20260928T170000
DTEND;TZID=Europe/Berlin:20260928T200000
DTSTAMP:20260423T183639
CREATED:20260119T123310Z
LAST-MODIFIED:20260119T123433Z
UID:10001557-1790614800-1790625600@www.brunnenviertel-brunnenstrasse.de
SUMMARY:Repaircafé Brunnenviertel
DESCRIPTION:Hast du einen kaputten Toaster zu Hause oder ein Bügeleisen\, was nicht mehr warm wird? Willst du ein Kabel löten oder einen neuen Schalter anbringen? Mit Unterstützung der Freiwilligen des Repaircafés kann dir das gelingen.\nEine Anmeldung ist keine Bedingung\, macht aber durchaus Sinn\, falls es viel Andrang gibt. \nAnmeldung über: repaircafe-brunnenviertel@mail.de
URL:https://www.brunnenviertel-brunnenstrasse.de/event/repaircafe-brunnenviertel-3/2026-09-28/
LOCATION:Olof-Palme-Stadtteilzentrum\, Demminer Straße 28\, Berlin\, 13355
ORGANIZER;CN="Repaircaf%C3%A9 Brunnenviertel":MAILTO:repaircafe-brunnenviertel@mail.de
END:VEVENT
BEGIN:VEVENT
DTSTART;TZID=Europe/Berlin:20260930T100000
DTEND;TZID=Europe/Berlin:20260930T120000
DTSTAMP:20260423T183639
CREATED:20241112T093449Z
LAST-MODIFIED:20241112T093449Z
UID:10000400-1790762400-1790769600@www.brunnenviertel-brunnenstrasse.de
SUMMARY:Stadtteilmütter im OPZ (Beratung für Frauen*)
DESCRIPTION:Frauen\, die Fragen zu den folgenden Themen haben\, sind mittwochs zwischen 10 und 12 Uhr im Olof-Palme-Stadtteilzentrum genau richtig: \n\nSozialberatung \n(Finanzielle Unterstützung\, Familien- und Erziehungsfragen\, Psychosoziale Unterstützung\, berufliche Orientierung\, Gesundheit\, Wohnrausuche u.v.m.)\nBeratung für Schwangere \n(Gesundheit & Ernährung\, Elternbildung\, rechtliche Aspekte\, Partner- und Familienberatung\, Hilfsangebote etc.)\nMigrationsberatung \n(Aufenthaltsrecht\, Integration\, Bildungs- und Ausbildungsmöglichkeiten\, soziale Leistungen\, Netzwerke und Kontakte)\nRechtsberatung \n(Asylrecht\, Hartz IV\, Unfälle\, Sorgerecht\, Rentenansprüche u.v.m.)\nMietberatung \n(Wohngeld\, Schlichtung von Konflikten\, Nebenkosten\, Mieterhöhung)\nAnerkennung von ausländischen Abschlüssen\, um die Gleichwertigkeit mit Deutschen\n\nWer sind die Stadtteilmütter? \nErfahrene und qualifizierte Ansprechpartnerinnern zu einer Vielzahl von Themen rund um Familie\, Sprachförderung\, Bildung und Integration. Sie bieten persönliche Gespräche an\, begleiten zu Beratungsstellen\, Fachdiensten\, Ämtern und anderen relevanten Einrichtungen. Außerdem sind sie gut vernetzt\, informieren zu Angeboten im Kiez und Fragen rund um Gesundheit und Erziehung. \nIm OPZ unterstützen uns Serap und Nissrine\, die an ihren roten Schals und Stadtteilmütter-Anhängern zu erkennen sind\, nun schon seit ein paar Wochen.\nAuf Türkisch\, Arabisch\, Englisch und Deutsch – auf Anfrage auch in anderen Sprachen von Albanisch bis Serbisch – bieten sie Angesicht zu Angesicht ein offenes Ohr und Rat\, stellen Brücken zu Hilf- und Unterstützungsangeboten her. Es ist der Anfang von Beratungsangeboten in unseren Räumlichkeiten\, welches wir stetig ausbauen wollen. Wenn ihr dazu also weitere Wünsche und Ideen habt\, kommt doch gern auf uns zu. \nJeden Mittwoch\, 10-12 Uhr im Olof-Palme-Stadtteilzentrum beim Frühstück für Frauen.\nKontakt: https://bethania.de/stadtteilmuetter-in-mitte \nHinweis: im Sprachförderzentrum Mitte\, Badstr. 10\, 13357 Berlin\, können sich Mo.-Mi. (10-13 Uhr) und Do. (10-15 Uhr) auch Männer zur Beratung melden.
URL:https://www.brunnenviertel-brunnenstrasse.de/event/stadtteilmuetter-im-opz-beratung-fuer-frauen/2026-09-30/
LOCATION:Olof-Palme-Stadtteilzentrum\, Demminer Straße 28\, Berlin\, 13355
END:VEVENT
END:VCALENDAR