BEGIN:VCALENDAR
VERSION:2.0
PRODID:-//QM Brunnenstraße - ECPv6.15.20//NONSGML v1.0//EN
CALSCALE:GREGORIAN
METHOD:PUBLISH
X-ORIGINAL-URL:https://www.brunnenviertel-brunnenstrasse.de
X-WR-CALDESC:Veranstaltungen für QM Brunnenstraße
REFRESH-INTERVAL;VALUE=DURATION:PT1H
X-Robots-Tag:noindex
X-PUBLISHED-TTL:PT1H
BEGIN:VTIMEZONE
TZID:Europe/Berlin
BEGIN:DAYLIGHT
TZOFFSETFROM:+0100
TZOFFSETTO:+0200
TZNAME:CEST
DTSTART:20250330T010000
END:DAYLIGHT
BEGIN:STANDARD
TZOFFSETFROM:+0200
TZOFFSETTO:+0100
TZNAME:CET
DTSTART:20251026T010000
END:STANDARD
BEGIN:DAYLIGHT
TZOFFSETFROM:+0100
TZOFFSETTO:+0200
TZNAME:CEST
DTSTART:20260329T010000
END:DAYLIGHT
BEGIN:STANDARD
TZOFFSETFROM:+0200
TZOFFSETTO:+0100
TZNAME:CET
DTSTART:20261025T010000
END:STANDARD
BEGIN:DAYLIGHT
TZOFFSETFROM:+0100
TZOFFSETTO:+0200
TZNAME:CEST
DTSTART:20270328T010000
END:DAYLIGHT
BEGIN:STANDARD
TZOFFSETFROM:+0200
TZOFFSETTO:+0100
TZNAME:CET
DTSTART:20271031T010000
END:STANDARD
END:VTIMEZONE
BEGIN:VEVENT
DTSTART;TZID=Europe/Berlin:20260802T143000
DTEND;TZID=Europe/Berlin:20260802T163000
DTSTAMP:20260423T170136
CREATED:20260409T135227Z
LAST-MODIFIED:20260409T141556Z
UID:10001581-1785681000-1785688200@www.brunnenviertel-brunnenstrasse.de
SUMMARY:Familiensonntag mit Zirkusprogramm im OPZ
DESCRIPTION:Ab dem 19. April 2026 heißt es wieder: Familiensonntag im Brunnenviertel – diesmal mit Zirkusprogramm von Corragio! Jeden Sonntag von 14.30-16.30 Uhr können Kinder bis 10 Jahre gemeinsam mit ihren Eltern spannende Zirkusaktionen erleben. Das Angebot ist kostenlos und eine Anmeldung ist nicht erforderlich. \n  \nMehr Informationen hier.
URL:https://www.brunnenviertel-brunnenstrasse.de/event/familiensonntag-mit-zirkusprogramm-im-opz/2026-08-02/
END:VEVENT
BEGIN:VEVENT
DTSTART;TZID=Europe/Berlin:20260803T113000
DTEND;TZID=Europe/Berlin:20260803T123000
DTSTAMP:20260423T170136
CREATED:20260409T141423Z
LAST-MODIFIED:20260409T141423Z
UID:10001664-1785756600-1785760200@www.brunnenviertel-brunnenstrasse.de
SUMMARY:Inklusionsberatung im Olof-Palme-Stadtteilzentrum
DESCRIPTION:Ab dem 13. April 2026 gibt es im Olof-Palme-Stadtteilzentrum jeden Montag von 11.30 bis 12.30 Uhr eine neue Inklusionsberatung. Inklusionsberaterin Jenny vom Verband für sozial-kulturelle Arbeit e.V. unterstützt Menschen mit Behinderungen oder chronischen Erkrankungen sowie ihre Angehörigen bei Fragen zu Teilhabe\, Unterstützungsmöglichkeiten und Angeboten im Kiez. \nDie Beratung ist kostenlos und persönlich. \nBeratung immer montags\, 11.30 bis 12.30 Uhr | Olof-Palme-Stadtteilzentrum\, Demminer Straße 28 | Mehr Informationen hier.
URL:https://www.brunnenviertel-brunnenstrasse.de/event/inklusionsberatung-im-olof-palme-stadtteilzentrum/2026-08-03/
END:VEVENT
BEGIN:VEVENT
DTSTART;TZID=Europe/Berlin:20260805T100000
DTEND;TZID=Europe/Berlin:20260805T120000
DTSTAMP:20260423T170136
CREATED:20241112T093449Z
LAST-MODIFIED:20241112T093449Z
UID:10000392-1785924000-1785931200@www.brunnenviertel-brunnenstrasse.de
SUMMARY:Stadtteilmütter im OPZ (Beratung für Frauen*)
DESCRIPTION:Frauen\, die Fragen zu den folgenden Themen haben\, sind mittwochs zwischen 10 und 12 Uhr im Olof-Palme-Stadtteilzentrum genau richtig: \n\nSozialberatung \n(Finanzielle Unterstützung\, Familien- und Erziehungsfragen\, Psychosoziale Unterstützung\, berufliche Orientierung\, Gesundheit\, Wohnrausuche u.v.m.)\nBeratung für Schwangere \n(Gesundheit & Ernährung\, Elternbildung\, rechtliche Aspekte\, Partner- und Familienberatung\, Hilfsangebote etc.)\nMigrationsberatung \n(Aufenthaltsrecht\, Integration\, Bildungs- und Ausbildungsmöglichkeiten\, soziale Leistungen\, Netzwerke und Kontakte)\nRechtsberatung \n(Asylrecht\, Hartz IV\, Unfälle\, Sorgerecht\, Rentenansprüche u.v.m.)\nMietberatung \n(Wohngeld\, Schlichtung von Konflikten\, Nebenkosten\, Mieterhöhung)\nAnerkennung von ausländischen Abschlüssen\, um die Gleichwertigkeit mit Deutschen\n\nWer sind die Stadtteilmütter? \nErfahrene und qualifizierte Ansprechpartnerinnern zu einer Vielzahl von Themen rund um Familie\, Sprachförderung\, Bildung und Integration. Sie bieten persönliche Gespräche an\, begleiten zu Beratungsstellen\, Fachdiensten\, Ämtern und anderen relevanten Einrichtungen. Außerdem sind sie gut vernetzt\, informieren zu Angeboten im Kiez und Fragen rund um Gesundheit und Erziehung. \nIm OPZ unterstützen uns Serap und Nissrine\, die an ihren roten Schals und Stadtteilmütter-Anhängern zu erkennen sind\, nun schon seit ein paar Wochen.\nAuf Türkisch\, Arabisch\, Englisch und Deutsch – auf Anfrage auch in anderen Sprachen von Albanisch bis Serbisch – bieten sie Angesicht zu Angesicht ein offenes Ohr und Rat\, stellen Brücken zu Hilf- und Unterstützungsangeboten her. Es ist der Anfang von Beratungsangeboten in unseren Räumlichkeiten\, welches wir stetig ausbauen wollen. Wenn ihr dazu also weitere Wünsche und Ideen habt\, kommt doch gern auf uns zu. \nJeden Mittwoch\, 10-12 Uhr im Olof-Palme-Stadtteilzentrum beim Frühstück für Frauen.\nKontakt: https://bethania.de/stadtteilmuetter-in-mitte \nHinweis: im Sprachförderzentrum Mitte\, Badstr. 10\, 13357 Berlin\, können sich Mo.-Mi. (10-13 Uhr) und Do. (10-15 Uhr) auch Männer zur Beratung melden.
URL:https://www.brunnenviertel-brunnenstrasse.de/event/stadtteilmuetter-im-opz-beratung-fuer-frauen/2026-08-05/
LOCATION:Olof-Palme-Stadtteilzentrum\, Demminer Straße 28\, Berlin\, 13355
END:VEVENT
BEGIN:VEVENT
DTSTART;TZID=Europe/Berlin:20260806T100000
DTEND;TZID=Europe/Berlin:20260806T113000
DTSTAMP:20260423T170136
CREATED:20241112T093958Z
LAST-MODIFIED:20241112T093958Z
UID:10000653-1786010400-1786015800@www.brunnenviertel-brunnenstrasse.de
SUMMARY:Sprachcafé im OPZ
DESCRIPTION:Für wen ist das Sprachcafé? \n\nfür Menschen\, die ihre Deutschkenntnisse verbessern wollen\n\n\nfür alle\, die neue Leute kennenlernen und sich austauschen möchten\n\nEgal\, ob mit oder ohne Sprachkenntnisse – komm einfach vorbei. Das Sprachcafé ist kostenlos. \nWann und wo? \n Jeden Donnerstag von 10:00 bis 11:30 Uhr\n „Olof Palme“ Stadtteilzentrum\, Demminer Str. 28\, 13355 Berlin\n Kinderbetreuung für die Kleinen ist vorhanden \nBringt gern Snacks mit. Kaffee und Tee gibt es vor Ort. \nÜber eine kleine Spende freuen wir uns! \nAnmeldung? \nKeine Anmeldung nötig! Komm einfach vorbei und mach mit. \nWarum mitmachen? \n\nüben in einer entspannten Atmosphäre\n\n\nfreundliche Gesprächspartner*innen und Muttersprachler*innen\n\n\nSpaß am Sprechen durch Spiele und Aktivitäten\n\n\ninterkultureller Austausch und neue Freundschaften\n\nWir freuen uns auf dich!
URL:https://www.brunnenviertel-brunnenstrasse.de/event/sprachcafe-im-opz/2026-08-06/
LOCATION:Olof-Palme-Stadtteilzentrum\, Demminer Straße 28\, Berlin\, 13355
END:VEVENT
BEGIN:VEVENT
DTSTART;TZID=Europe/Berlin:20260809T143000
DTEND;TZID=Europe/Berlin:20260809T163000
DTSTAMP:20260423T170136
CREATED:20260409T135227Z
LAST-MODIFIED:20260409T141556Z
UID:10001582-1786285800-1786293000@www.brunnenviertel-brunnenstrasse.de
SUMMARY:Familiensonntag mit Zirkusprogramm im OPZ
DESCRIPTION:Ab dem 19. April 2026 heißt es wieder: Familiensonntag im Brunnenviertel – diesmal mit Zirkusprogramm von Corragio! Jeden Sonntag von 14.30-16.30 Uhr können Kinder bis 10 Jahre gemeinsam mit ihren Eltern spannende Zirkusaktionen erleben. Das Angebot ist kostenlos und eine Anmeldung ist nicht erforderlich. \n  \nMehr Informationen hier.
URL:https://www.brunnenviertel-brunnenstrasse.de/event/familiensonntag-mit-zirkusprogramm-im-opz/2026-08-09/
END:VEVENT
BEGIN:VEVENT
DTSTART;TZID=Europe/Berlin:20260810T113000
DTEND;TZID=Europe/Berlin:20260810T123000
DTSTAMP:20260423T170136
CREATED:20260409T141423Z
LAST-MODIFIED:20260409T141423Z
UID:10001665-1786361400-1786365000@www.brunnenviertel-brunnenstrasse.de
SUMMARY:Inklusionsberatung im Olof-Palme-Stadtteilzentrum
DESCRIPTION:Ab dem 13. April 2026 gibt es im Olof-Palme-Stadtteilzentrum jeden Montag von 11.30 bis 12.30 Uhr eine neue Inklusionsberatung. Inklusionsberaterin Jenny vom Verband für sozial-kulturelle Arbeit e.V. unterstützt Menschen mit Behinderungen oder chronischen Erkrankungen sowie ihre Angehörigen bei Fragen zu Teilhabe\, Unterstützungsmöglichkeiten und Angeboten im Kiez. \nDie Beratung ist kostenlos und persönlich. \nBeratung immer montags\, 11.30 bis 12.30 Uhr | Olof-Palme-Stadtteilzentrum\, Demminer Straße 28 | Mehr Informationen hier.
URL:https://www.brunnenviertel-brunnenstrasse.de/event/inklusionsberatung-im-olof-palme-stadtteilzentrum/2026-08-10/
END:VEVENT
BEGIN:VEVENT
DTSTART;TZID=Europe/Berlin:20260812T100000
DTEND;TZID=Europe/Berlin:20260812T120000
DTSTAMP:20260423T170136
CREATED:20241112T093449Z
LAST-MODIFIED:20241112T093449Z
UID:10000393-1786528800-1786536000@www.brunnenviertel-brunnenstrasse.de
SUMMARY:Stadtteilmütter im OPZ (Beratung für Frauen*)
DESCRIPTION:Frauen\, die Fragen zu den folgenden Themen haben\, sind mittwochs zwischen 10 und 12 Uhr im Olof-Palme-Stadtteilzentrum genau richtig: \n\nSozialberatung \n(Finanzielle Unterstützung\, Familien- und Erziehungsfragen\, Psychosoziale Unterstützung\, berufliche Orientierung\, Gesundheit\, Wohnrausuche u.v.m.)\nBeratung für Schwangere \n(Gesundheit & Ernährung\, Elternbildung\, rechtliche Aspekte\, Partner- und Familienberatung\, Hilfsangebote etc.)\nMigrationsberatung \n(Aufenthaltsrecht\, Integration\, Bildungs- und Ausbildungsmöglichkeiten\, soziale Leistungen\, Netzwerke und Kontakte)\nRechtsberatung \n(Asylrecht\, Hartz IV\, Unfälle\, Sorgerecht\, Rentenansprüche u.v.m.)\nMietberatung \n(Wohngeld\, Schlichtung von Konflikten\, Nebenkosten\, Mieterhöhung)\nAnerkennung von ausländischen Abschlüssen\, um die Gleichwertigkeit mit Deutschen\n\nWer sind die Stadtteilmütter? \nErfahrene und qualifizierte Ansprechpartnerinnern zu einer Vielzahl von Themen rund um Familie\, Sprachförderung\, Bildung und Integration. Sie bieten persönliche Gespräche an\, begleiten zu Beratungsstellen\, Fachdiensten\, Ämtern und anderen relevanten Einrichtungen. Außerdem sind sie gut vernetzt\, informieren zu Angeboten im Kiez und Fragen rund um Gesundheit und Erziehung. \nIm OPZ unterstützen uns Serap und Nissrine\, die an ihren roten Schals und Stadtteilmütter-Anhängern zu erkennen sind\, nun schon seit ein paar Wochen.\nAuf Türkisch\, Arabisch\, Englisch und Deutsch – auf Anfrage auch in anderen Sprachen von Albanisch bis Serbisch – bieten sie Angesicht zu Angesicht ein offenes Ohr und Rat\, stellen Brücken zu Hilf- und Unterstützungsangeboten her. Es ist der Anfang von Beratungsangeboten in unseren Räumlichkeiten\, welches wir stetig ausbauen wollen. Wenn ihr dazu also weitere Wünsche und Ideen habt\, kommt doch gern auf uns zu. \nJeden Mittwoch\, 10-12 Uhr im Olof-Palme-Stadtteilzentrum beim Frühstück für Frauen.\nKontakt: https://bethania.de/stadtteilmuetter-in-mitte \nHinweis: im Sprachförderzentrum Mitte\, Badstr. 10\, 13357 Berlin\, können sich Mo.-Mi. (10-13 Uhr) und Do. (10-15 Uhr) auch Männer zur Beratung melden.
URL:https://www.brunnenviertel-brunnenstrasse.de/event/stadtteilmuetter-im-opz-beratung-fuer-frauen/2026-08-12/
LOCATION:Olof-Palme-Stadtteilzentrum\, Demminer Straße 28\, Berlin\, 13355
END:VEVENT
BEGIN:VEVENT
DTSTART;TZID=Europe/Berlin:20260813T100000
DTEND;TZID=Europe/Berlin:20260813T113000
DTSTAMP:20260423T170136
CREATED:20241112T093958Z
LAST-MODIFIED:20241112T093958Z
UID:10000654-1786615200-1786620600@www.brunnenviertel-brunnenstrasse.de
SUMMARY:Sprachcafé im OPZ
DESCRIPTION:Für wen ist das Sprachcafé? \n\nfür Menschen\, die ihre Deutschkenntnisse verbessern wollen\n\n\nfür alle\, die neue Leute kennenlernen und sich austauschen möchten\n\nEgal\, ob mit oder ohne Sprachkenntnisse – komm einfach vorbei. Das Sprachcafé ist kostenlos. \nWann und wo? \n Jeden Donnerstag von 10:00 bis 11:30 Uhr\n „Olof Palme“ Stadtteilzentrum\, Demminer Str. 28\, 13355 Berlin\n Kinderbetreuung für die Kleinen ist vorhanden \nBringt gern Snacks mit. Kaffee und Tee gibt es vor Ort. \nÜber eine kleine Spende freuen wir uns! \nAnmeldung? \nKeine Anmeldung nötig! Komm einfach vorbei und mach mit. \nWarum mitmachen? \n\nüben in einer entspannten Atmosphäre\n\n\nfreundliche Gesprächspartner*innen und Muttersprachler*innen\n\n\nSpaß am Sprechen durch Spiele und Aktivitäten\n\n\ninterkultureller Austausch und neue Freundschaften\n\nWir freuen uns auf dich!
URL:https://www.brunnenviertel-brunnenstrasse.de/event/sprachcafe-im-opz/2026-08-13/
LOCATION:Olof-Palme-Stadtteilzentrum\, Demminer Straße 28\, Berlin\, 13355
END:VEVENT
BEGIN:VEVENT
DTSTART;TZID=Europe/Berlin:20260816T143000
DTEND;TZID=Europe/Berlin:20260816T163000
DTSTAMP:20260423T170136
CREATED:20260409T135227Z
LAST-MODIFIED:20260409T141556Z
UID:10001583-1786890600-1786897800@www.brunnenviertel-brunnenstrasse.de
SUMMARY:Familiensonntag mit Zirkusprogramm im OPZ
DESCRIPTION:Ab dem 19. April 2026 heißt es wieder: Familiensonntag im Brunnenviertel – diesmal mit Zirkusprogramm von Corragio! Jeden Sonntag von 14.30-16.30 Uhr können Kinder bis 10 Jahre gemeinsam mit ihren Eltern spannende Zirkusaktionen erleben. Das Angebot ist kostenlos und eine Anmeldung ist nicht erforderlich. \n  \nMehr Informationen hier.
URL:https://www.brunnenviertel-brunnenstrasse.de/event/familiensonntag-mit-zirkusprogramm-im-opz/2026-08-16/
END:VEVENT
BEGIN:VEVENT
DTSTART;TZID=Europe/Berlin:20260817T113000
DTEND;TZID=Europe/Berlin:20260817T123000
DTSTAMP:20260423T170136
CREATED:20260409T141423Z
LAST-MODIFIED:20260409T141423Z
UID:10001666-1786966200-1786969800@www.brunnenviertel-brunnenstrasse.de
SUMMARY:Inklusionsberatung im Olof-Palme-Stadtteilzentrum
DESCRIPTION:Ab dem 13. April 2026 gibt es im Olof-Palme-Stadtteilzentrum jeden Montag von 11.30 bis 12.30 Uhr eine neue Inklusionsberatung. Inklusionsberaterin Jenny vom Verband für sozial-kulturelle Arbeit e.V. unterstützt Menschen mit Behinderungen oder chronischen Erkrankungen sowie ihre Angehörigen bei Fragen zu Teilhabe\, Unterstützungsmöglichkeiten und Angeboten im Kiez. \nDie Beratung ist kostenlos und persönlich. \nBeratung immer montags\, 11.30 bis 12.30 Uhr | Olof-Palme-Stadtteilzentrum\, Demminer Straße 28 | Mehr Informationen hier.
URL:https://www.brunnenviertel-brunnenstrasse.de/event/inklusionsberatung-im-olof-palme-stadtteilzentrum/2026-08-17/
END:VEVENT
BEGIN:VEVENT
DTSTART;VALUE=DATE:20260818
DTEND;VALUE=DATE:20260819
DTSTAMP:20260423T170136
CREATED:20250120T094628Z
LAST-MODIFIED:20260218T110907Z
UID:10000849-1787011200-1787097599@www.brunnenviertel-brunnenstrasse.de
SUMMARY:Deadline | Antragsfrist für den Aktionsfonds
DESCRIPTION:Für kleinere ehrenamtliche Projekte in unserem Quartier stehen im Jahr 2026 15.000 Euro im Aktionsfonds zur Verfügung. – Anträge für die 3. Runde können bis 18. August 2026 beim QM eingereicht werden. \nDie Aktionen müssen mindestens einem der nachfolgenden Themen zuzuordnen sein. \n\nNutzen für die Gemeinschaft bzw. Nachbarschaft\nFörderung der Eigenverantwortlichkeit und Selbsthilfe\nStärkung nachbarschaftlicher Kontakte\nBelebung der Stadtteilkultur\nÖffentliche Darstellung des Quartiers / Imageförderung\nKlimaschutz und Klimaanpassung\n\n  \nDas QM-Team legt alle förderfähigen Anträge der Aktionsfondsjury vor. Diese entscheidet anhand der Förderwürdigkeit darüber\, welche Aktionen gefördert werden.\nAlle Antragstellenden können ihre Idee bei der Sitzung der Jury vorstellen\, bitte halten Sie sich daher den 01. September 2026\, ca. 17-18:30 Uhr frei. \nMehr Infos zum Aktionsfonds finden Sie HIER.
URL:https://www.brunnenviertel-brunnenstrasse.de/event/deadline-antragsfrist-fuer-den-aktionsfonds/
END:VEVENT
BEGIN:VEVENT
DTSTART;TZID=Europe/Berlin:20260819T100000
DTEND;TZID=Europe/Berlin:20260819T120000
DTSTAMP:20260423T170136
CREATED:20241112T093449Z
LAST-MODIFIED:20241112T093449Z
UID:10000394-1787133600-1787140800@www.brunnenviertel-brunnenstrasse.de
SUMMARY:Stadtteilmütter im OPZ (Beratung für Frauen*)
DESCRIPTION:Frauen\, die Fragen zu den folgenden Themen haben\, sind mittwochs zwischen 10 und 12 Uhr im Olof-Palme-Stadtteilzentrum genau richtig: \n\nSozialberatung \n(Finanzielle Unterstützung\, Familien- und Erziehungsfragen\, Psychosoziale Unterstützung\, berufliche Orientierung\, Gesundheit\, Wohnrausuche u.v.m.)\nBeratung für Schwangere \n(Gesundheit & Ernährung\, Elternbildung\, rechtliche Aspekte\, Partner- und Familienberatung\, Hilfsangebote etc.)\nMigrationsberatung \n(Aufenthaltsrecht\, Integration\, Bildungs- und Ausbildungsmöglichkeiten\, soziale Leistungen\, Netzwerke und Kontakte)\nRechtsberatung \n(Asylrecht\, Hartz IV\, Unfälle\, Sorgerecht\, Rentenansprüche u.v.m.)\nMietberatung \n(Wohngeld\, Schlichtung von Konflikten\, Nebenkosten\, Mieterhöhung)\nAnerkennung von ausländischen Abschlüssen\, um die Gleichwertigkeit mit Deutschen\n\nWer sind die Stadtteilmütter? \nErfahrene und qualifizierte Ansprechpartnerinnern zu einer Vielzahl von Themen rund um Familie\, Sprachförderung\, Bildung und Integration. Sie bieten persönliche Gespräche an\, begleiten zu Beratungsstellen\, Fachdiensten\, Ämtern und anderen relevanten Einrichtungen. Außerdem sind sie gut vernetzt\, informieren zu Angeboten im Kiez und Fragen rund um Gesundheit und Erziehung. \nIm OPZ unterstützen uns Serap und Nissrine\, die an ihren roten Schals und Stadtteilmütter-Anhängern zu erkennen sind\, nun schon seit ein paar Wochen.\nAuf Türkisch\, Arabisch\, Englisch und Deutsch – auf Anfrage auch in anderen Sprachen von Albanisch bis Serbisch – bieten sie Angesicht zu Angesicht ein offenes Ohr und Rat\, stellen Brücken zu Hilf- und Unterstützungsangeboten her. Es ist der Anfang von Beratungsangeboten in unseren Räumlichkeiten\, welches wir stetig ausbauen wollen. Wenn ihr dazu also weitere Wünsche und Ideen habt\, kommt doch gern auf uns zu. \nJeden Mittwoch\, 10-12 Uhr im Olof-Palme-Stadtteilzentrum beim Frühstück für Frauen.\nKontakt: https://bethania.de/stadtteilmuetter-in-mitte \nHinweis: im Sprachförderzentrum Mitte\, Badstr. 10\, 13357 Berlin\, können sich Mo.-Mi. (10-13 Uhr) und Do. (10-15 Uhr) auch Männer zur Beratung melden.
URL:https://www.brunnenviertel-brunnenstrasse.de/event/stadtteilmuetter-im-opz-beratung-fuer-frauen/2026-08-19/
LOCATION:Olof-Palme-Stadtteilzentrum\, Demminer Straße 28\, Berlin\, 13355
END:VEVENT
BEGIN:VEVENT
DTSTART;TZID=Europe/Berlin:20260820T100000
DTEND;TZID=Europe/Berlin:20260820T113000
DTSTAMP:20260423T170136
CREATED:20241112T093958Z
LAST-MODIFIED:20241112T093958Z
UID:10000655-1787220000-1787225400@www.brunnenviertel-brunnenstrasse.de
SUMMARY:Sprachcafé im OPZ
DESCRIPTION:Für wen ist das Sprachcafé? \n\nfür Menschen\, die ihre Deutschkenntnisse verbessern wollen\n\n\nfür alle\, die neue Leute kennenlernen und sich austauschen möchten\n\nEgal\, ob mit oder ohne Sprachkenntnisse – komm einfach vorbei. Das Sprachcafé ist kostenlos. \nWann und wo? \n Jeden Donnerstag von 10:00 bis 11:30 Uhr\n „Olof Palme“ Stadtteilzentrum\, Demminer Str. 28\, 13355 Berlin\n Kinderbetreuung für die Kleinen ist vorhanden \nBringt gern Snacks mit. Kaffee und Tee gibt es vor Ort. \nÜber eine kleine Spende freuen wir uns! \nAnmeldung? \nKeine Anmeldung nötig! Komm einfach vorbei und mach mit. \nWarum mitmachen? \n\nüben in einer entspannten Atmosphäre\n\n\nfreundliche Gesprächspartner*innen und Muttersprachler*innen\n\n\nSpaß am Sprechen durch Spiele und Aktivitäten\n\n\ninterkultureller Austausch und neue Freundschaften\n\nWir freuen uns auf dich!
URL:https://www.brunnenviertel-brunnenstrasse.de/event/sprachcafe-im-opz/2026-08-20/
LOCATION:Olof-Palme-Stadtteilzentrum\, Demminer Straße 28\, Berlin\, 13355
END:VEVENT
BEGIN:VEVENT
DTSTART;TZID=Europe/Berlin:20260820T183000
DTEND;TZID=Europe/Berlin:20260820T203000
DTSTAMP:20260423T170136
CREATED:20260106T102025Z
LAST-MODIFIED:20260106T102257Z
UID:10001528-1787250600-1787257800@www.brunnenviertel-brunnenstrasse.de
SUMMARY:Handarbeitstreff in der Waschküche
DESCRIPTION:Handarbeitstreff\nam Donnerstag\, 15.1.2026\, 18:30 – 20:30 Uhr (jeden 3. Donnerstag im Monat) im Nachbarschaftsraum Waschküche\, Feldstraße 10\, 13355 Berlin \nHast Du Lust\, gemeinsam kreativ zu werden? Ob nähen\, stricken\, häkeln\, basteln oder andere Handarbeiten\, beim Handarbeitstreff sind alle willkommen! \nJana bringt ihre Nähmaschine mit\, vor Ort gibt es noch ein paar weitere. Du kannst dein eigenes Projekt mitbringen oder dich inspirieren lassen. Es geht um Gemeinschaft\, Austausch und Freude am Selbermachen. \nFür Tee\, Kaffee und gute Stimmung ist gesorgt. Komm vorbei\, bring dein Handarbeitszeug mit und mach mit – gemeinsam macht’s einfach mehr Spaß! \nVoranmeldung für Nähen mit der Maschine: jana.ammerschuber@gmail.com \nhttps://waschkueche-brunnenviertel.de/handarbeitstreff/
URL:https://www.brunnenviertel-brunnenstrasse.de/event/handarbeitstreff-in-der-waschkueche/2026-08-20/
LOCATION:Waschküche\, Feldstraße 10\, Berlin\, 13355
END:VEVENT
BEGIN:VEVENT
DTSTART;TZID=Europe/Berlin:20260823T143000
DTEND;TZID=Europe/Berlin:20260823T163000
DTSTAMP:20260423T170136
CREATED:20260409T135227Z
LAST-MODIFIED:20260409T141556Z
UID:10001584-1787495400-1787502600@www.brunnenviertel-brunnenstrasse.de
SUMMARY:Familiensonntag mit Zirkusprogramm im OPZ
DESCRIPTION:Ab dem 19. April 2026 heißt es wieder: Familiensonntag im Brunnenviertel – diesmal mit Zirkusprogramm von Corragio! Jeden Sonntag von 14.30-16.30 Uhr können Kinder bis 10 Jahre gemeinsam mit ihren Eltern spannende Zirkusaktionen erleben. Das Angebot ist kostenlos und eine Anmeldung ist nicht erforderlich. \n  \nMehr Informationen hier.
URL:https://www.brunnenviertel-brunnenstrasse.de/event/familiensonntag-mit-zirkusprogramm-im-opz/2026-08-23/
END:VEVENT
BEGIN:VEVENT
DTSTART;TZID=Europe/Berlin:20260824T113000
DTEND;TZID=Europe/Berlin:20260824T123000
DTSTAMP:20260423T170136
CREATED:20260409T141423Z
LAST-MODIFIED:20260409T141423Z
UID:10001667-1787571000-1787574600@www.brunnenviertel-brunnenstrasse.de
SUMMARY:Inklusionsberatung im Olof-Palme-Stadtteilzentrum
DESCRIPTION:Ab dem 13. April 2026 gibt es im Olof-Palme-Stadtteilzentrum jeden Montag von 11.30 bis 12.30 Uhr eine neue Inklusionsberatung. Inklusionsberaterin Jenny vom Verband für sozial-kulturelle Arbeit e.V. unterstützt Menschen mit Behinderungen oder chronischen Erkrankungen sowie ihre Angehörigen bei Fragen zu Teilhabe\, Unterstützungsmöglichkeiten und Angeboten im Kiez. \nDie Beratung ist kostenlos und persönlich. \nBeratung immer montags\, 11.30 bis 12.30 Uhr | Olof-Palme-Stadtteilzentrum\, Demminer Straße 28 | Mehr Informationen hier.
URL:https://www.brunnenviertel-brunnenstrasse.de/event/inklusionsberatung-im-olof-palme-stadtteilzentrum/2026-08-24/
END:VEVENT
BEGIN:VEVENT
DTSTART;TZID=Europe/Berlin:20260824T170000
DTEND;TZID=Europe/Berlin:20260824T200000
DTSTAMP:20260423T170136
CREATED:20260119T123310Z
LAST-MODIFIED:20260119T123433Z
UID:10001556-1787590800-1787601600@www.brunnenviertel-brunnenstrasse.de
SUMMARY:Repaircafé Brunnenviertel
DESCRIPTION:Hast du einen kaputten Toaster zu Hause oder ein Bügeleisen\, was nicht mehr warm wird? Willst du ein Kabel löten oder einen neuen Schalter anbringen? Mit Unterstützung der Freiwilligen des Repaircafés kann dir das gelingen.\nEine Anmeldung ist keine Bedingung\, macht aber durchaus Sinn\, falls es viel Andrang gibt. \nAnmeldung über: repaircafe-brunnenviertel@mail.de
URL:https://www.brunnenviertel-brunnenstrasse.de/event/repaircafe-brunnenviertel-3/2026-08-24/
LOCATION:Olof-Palme-Stadtteilzentrum\, Demminer Straße 28\, Berlin\, 13355
ORGANIZER;CN="Repaircaf%C3%A9 Brunnenviertel":MAILTO:repaircafe-brunnenviertel@mail.de
END:VEVENT
BEGIN:VEVENT
DTSTART;TZID=Europe/Berlin:20260826T100000
DTEND;TZID=Europe/Berlin:20260826T120000
DTSTAMP:20260423T170136
CREATED:20241112T093449Z
LAST-MODIFIED:20241112T093449Z
UID:10000395-1787738400-1787745600@www.brunnenviertel-brunnenstrasse.de
SUMMARY:Stadtteilmütter im OPZ (Beratung für Frauen*)
DESCRIPTION:Frauen\, die Fragen zu den folgenden Themen haben\, sind mittwochs zwischen 10 und 12 Uhr im Olof-Palme-Stadtteilzentrum genau richtig: \n\nSozialberatung \n(Finanzielle Unterstützung\, Familien- und Erziehungsfragen\, Psychosoziale Unterstützung\, berufliche Orientierung\, Gesundheit\, Wohnrausuche u.v.m.)\nBeratung für Schwangere \n(Gesundheit & Ernährung\, Elternbildung\, rechtliche Aspekte\, Partner- und Familienberatung\, Hilfsangebote etc.)\nMigrationsberatung \n(Aufenthaltsrecht\, Integration\, Bildungs- und Ausbildungsmöglichkeiten\, soziale Leistungen\, Netzwerke und Kontakte)\nRechtsberatung \n(Asylrecht\, Hartz IV\, Unfälle\, Sorgerecht\, Rentenansprüche u.v.m.)\nMietberatung \n(Wohngeld\, Schlichtung von Konflikten\, Nebenkosten\, Mieterhöhung)\nAnerkennung von ausländischen Abschlüssen\, um die Gleichwertigkeit mit Deutschen\n\nWer sind die Stadtteilmütter? \nErfahrene und qualifizierte Ansprechpartnerinnern zu einer Vielzahl von Themen rund um Familie\, Sprachförderung\, Bildung und Integration. Sie bieten persönliche Gespräche an\, begleiten zu Beratungsstellen\, Fachdiensten\, Ämtern und anderen relevanten Einrichtungen. Außerdem sind sie gut vernetzt\, informieren zu Angeboten im Kiez und Fragen rund um Gesundheit und Erziehung. \nIm OPZ unterstützen uns Serap und Nissrine\, die an ihren roten Schals und Stadtteilmütter-Anhängern zu erkennen sind\, nun schon seit ein paar Wochen.\nAuf Türkisch\, Arabisch\, Englisch und Deutsch – auf Anfrage auch in anderen Sprachen von Albanisch bis Serbisch – bieten sie Angesicht zu Angesicht ein offenes Ohr und Rat\, stellen Brücken zu Hilf- und Unterstützungsangeboten her. Es ist der Anfang von Beratungsangeboten in unseren Räumlichkeiten\, welches wir stetig ausbauen wollen. Wenn ihr dazu also weitere Wünsche und Ideen habt\, kommt doch gern auf uns zu. \nJeden Mittwoch\, 10-12 Uhr im Olof-Palme-Stadtteilzentrum beim Frühstück für Frauen.\nKontakt: https://bethania.de/stadtteilmuetter-in-mitte \nHinweis: im Sprachförderzentrum Mitte\, Badstr. 10\, 13357 Berlin\, können sich Mo.-Mi. (10-13 Uhr) und Do. (10-15 Uhr) auch Männer zur Beratung melden.
URL:https://www.brunnenviertel-brunnenstrasse.de/event/stadtteilmuetter-im-opz-beratung-fuer-frauen/2026-08-26/
LOCATION:Olof-Palme-Stadtteilzentrum\, Demminer Straße 28\, Berlin\, 13355
END:VEVENT
BEGIN:VEVENT
DTSTART;TZID=Europe/Berlin:20260827T100000
DTEND;TZID=Europe/Berlin:20260827T113000
DTSTAMP:20260423T170136
CREATED:20241112T093958Z
LAST-MODIFIED:20241112T093958Z
UID:10000656-1787824800-1787830200@www.brunnenviertel-brunnenstrasse.de
SUMMARY:Sprachcafé im OPZ
DESCRIPTION:Für wen ist das Sprachcafé? \n\nfür Menschen\, die ihre Deutschkenntnisse verbessern wollen\n\n\nfür alle\, die neue Leute kennenlernen und sich austauschen möchten\n\nEgal\, ob mit oder ohne Sprachkenntnisse – komm einfach vorbei. Das Sprachcafé ist kostenlos. \nWann und wo? \n Jeden Donnerstag von 10:00 bis 11:30 Uhr\n „Olof Palme“ Stadtteilzentrum\, Demminer Str. 28\, 13355 Berlin\n Kinderbetreuung für die Kleinen ist vorhanden \nBringt gern Snacks mit. Kaffee und Tee gibt es vor Ort. \nÜber eine kleine Spende freuen wir uns! \nAnmeldung? \nKeine Anmeldung nötig! Komm einfach vorbei und mach mit. \nWarum mitmachen? \n\nüben in einer entspannten Atmosphäre\n\n\nfreundliche Gesprächspartner*innen und Muttersprachler*innen\n\n\nSpaß am Sprechen durch Spiele und Aktivitäten\n\n\ninterkultureller Austausch und neue Freundschaften\n\nWir freuen uns auf dich!
URL:https://www.brunnenviertel-brunnenstrasse.de/event/sprachcafe-im-opz/2026-08-27/
LOCATION:Olof-Palme-Stadtteilzentrum\, Demminer Straße 28\, Berlin\, 13355
END:VEVENT
BEGIN:VEVENT
DTSTART;TZID=Europe/Berlin:20260830T143000
DTEND;TZID=Europe/Berlin:20260830T163000
DTSTAMP:20260423T170136
CREATED:20260409T135227Z
LAST-MODIFIED:20260409T141556Z
UID:10001585-1788100200-1788107400@www.brunnenviertel-brunnenstrasse.de
SUMMARY:Familiensonntag mit Zirkusprogramm im OPZ
DESCRIPTION:Ab dem 19. April 2026 heißt es wieder: Familiensonntag im Brunnenviertel – diesmal mit Zirkusprogramm von Corragio! Jeden Sonntag von 14.30-16.30 Uhr können Kinder bis 10 Jahre gemeinsam mit ihren Eltern spannende Zirkusaktionen erleben. Das Angebot ist kostenlos und eine Anmeldung ist nicht erforderlich. \n  \nMehr Informationen hier.
URL:https://www.brunnenviertel-brunnenstrasse.de/event/familiensonntag-mit-zirkusprogramm-im-opz/2026-08-30/
END:VEVENT
BEGIN:VEVENT
DTSTART;TZID=Europe/Berlin:20260831T113000
DTEND;TZID=Europe/Berlin:20260831T123000
DTSTAMP:20260423T170136
CREATED:20260409T141423Z
LAST-MODIFIED:20260409T141423Z
UID:10001668-1788175800-1788179400@www.brunnenviertel-brunnenstrasse.de
SUMMARY:Inklusionsberatung im Olof-Palme-Stadtteilzentrum
DESCRIPTION:Ab dem 13. April 2026 gibt es im Olof-Palme-Stadtteilzentrum jeden Montag von 11.30 bis 12.30 Uhr eine neue Inklusionsberatung. Inklusionsberaterin Jenny vom Verband für sozial-kulturelle Arbeit e.V. unterstützt Menschen mit Behinderungen oder chronischen Erkrankungen sowie ihre Angehörigen bei Fragen zu Teilhabe\, Unterstützungsmöglichkeiten und Angeboten im Kiez. \nDie Beratung ist kostenlos und persönlich. \nBeratung immer montags\, 11.30 bis 12.30 Uhr | Olof-Palme-Stadtteilzentrum\, Demminer Straße 28 | Mehr Informationen hier.
URL:https://www.brunnenviertel-brunnenstrasse.de/event/inklusionsberatung-im-olof-palme-stadtteilzentrum/2026-08-31/
END:VEVENT
END:VCALENDAR