BEGIN:VCALENDAR
VERSION:2.0
PRODID:-//QM Brunnenstraße - ECPv6.15.20//NONSGML v1.0//EN
CALSCALE:GREGORIAN
METHOD:PUBLISH
X-WR-CALNAME:QM Brunnenstraße
X-ORIGINAL-URL:https://www.brunnenviertel-brunnenstrasse.de
X-WR-CALDESC:Veranstaltungen für QM Brunnenstraße
REFRESH-INTERVAL;VALUE=DURATION:PT1H
X-Robots-Tag:noindex
X-PUBLISHED-TTL:PT1H
BEGIN:VTIMEZONE
TZID:Europe/Berlin
BEGIN:DAYLIGHT
TZOFFSETFROM:+0100
TZOFFSETTO:+0200
TZNAME:CEST
DTSTART:20250330T010000
END:DAYLIGHT
BEGIN:STANDARD
TZOFFSETFROM:+0200
TZOFFSETTO:+0100
TZNAME:CET
DTSTART:20251026T010000
END:STANDARD
BEGIN:DAYLIGHT
TZOFFSETFROM:+0100
TZOFFSETTO:+0200
TZNAME:CEST
DTSTART:20260329T010000
END:DAYLIGHT
BEGIN:STANDARD
TZOFFSETFROM:+0200
TZOFFSETTO:+0100
TZNAME:CET
DTSTART:20261025T010000
END:STANDARD
BEGIN:DAYLIGHT
TZOFFSETFROM:+0100
TZOFFSETTO:+0200
TZNAME:CEST
DTSTART:20270328T010000
END:DAYLIGHT
BEGIN:STANDARD
TZOFFSETFROM:+0200
TZOFFSETTO:+0100
TZNAME:CET
DTSTART:20271031T010000
END:STANDARD
END:VTIMEZONE
BEGIN:VEVENT
DTSTART;TZID=Europe/Berlin:20260419T143000
DTEND;TZID=Europe/Berlin:20260419T163000
DTSTAMP:20260419T165826
CREATED:20260409T135227Z
LAST-MODIFIED:20260409T141556Z
UID:10001566-1776609000-1776616200@www.brunnenviertel-brunnenstrasse.de
SUMMARY:Familiensonntag mit Zirkusprogramm im OPZ
DESCRIPTION:Ab dem 19. April 2026 heißt es wieder: Familiensonntag im Brunnenviertel – diesmal mit Zirkusprogramm von Corragio! Jeden Sonntag von 14.30-16.30 Uhr können Kinder bis 10 Jahre gemeinsam mit ihren Eltern spannende Zirkusaktionen erleben. Das Angebot ist kostenlos und eine Anmeldung ist nicht erforderlich. \n  \nMehr Informationen hier.
URL:https://www.brunnenviertel-brunnenstrasse.de/event/familiensonntag-mit-zirkusprogramm-im-opz/2026-04-19/
END:VEVENT
END:VCALENDAR